Workbook

Sheet SEKTOR_USD
B1: 1 - 31 EKIM İHRACAT RAKAMLARI
A5: SEKTÖREL BAZDA İHRACAT RAKAMLARI -1.000 $
B6: 1 - 31 EKIM | F6: 1 OCAK - 31 EKIM | J6: SON 12 AYLIK
A7: SEKTÖRLER | B7: 2025 | C7: 2026 | D7: Değişim ('26/'25) | E7: Pay(26) (%) | F7: 2025 | G7: 2026 | H7: Değişim ('26/'25) | I7: Pay(26) (%) | J7: 2024 - 2025 | K7: 2025 - 2026 | L7: Değişim ('26/'25) | M7: Pay(26) (%)
A8: I. TARIM | B8: =B9+B18+B20 -> 3286819.2 | C8: =C9+C18+C20 -> 3347353.4 | D8: =(C8-B8)/B8*100 -> 1.8417256 | E8: =C8/C$45*100 -> 12.931767 | F8: =F9+F18+F20 -> 29280965 | G8: =G9+G18+G20 -> 30464291 | H8: =(G8-F8)/F8*100 -> 4.0412817 | I8: =G8/G$45*100 -> 12.862994 | J8: =J9+J18+J20 -> 36020624 | K8: =K9+K18+K20 -> 37546247 | L8: =(K8-J8)/J8*100 -> 4.2354148 | M8: =K8/K$45*100 -> 13.144538
A9: A. BİTKİSEL ÜRÜNLER | B9: =B10+B11+B12+B13+B14+B15+B16+B17 -> 2174161.7 | C9: =C10+C11+C12+C13+C14+C15+C16+C17 -> 2254478.8 | D9: =(C9-B9)/B9*100 -> 3.6941636 | E9: =C9/C$45*100 -> 8.709685 | F9: =F10+F11+F12+F13+F14+F15+F16+F17 -> 19465546 | G9: =G10+G11+G12+G13+G14+G15+G16+G17 -> 20491994 | H9: =(G9-F9)/F9*100 -> 5.2731562 | I9: =G9/G$45*100 -> 8.6523728 | J9: =J10+J11+J12+J13+J14+J15+J16+J17 -> 24131301 | K9: =K10+K11+K12+K13+K14+K15+K16+K17 -> 25361684 | L9: =(K9-J9)/J9*100 -> 5.0987 | M9: =K9/K$45*100 -> 8.8788536
A10: Hububat, Bakliyat, Yağlı Tohumlar ve Mamulleri | B10: 1089641.7 | C10: 1038577.3 | D10: =(C10-B10)/B10*100 -> -4.6863441 | E10: =C10/C$45*100 -> 4.0123159 | F10: 10124644 | G10: 9914841 | H10: =(G10-F10)/F10*100 -> -2.0722012 | I10: =G10/G$45*100 -> 4.1863617 | J10: 12307015 | K10: 12150249 | L10: =(K10-J10)/J10*100 -> -1.2737929 | M10: =K10/K$45*100 -> 4.253672
A11: Yaş Meyve ve Sebze | B11: 334467.94 | C11: 287294.34 | D11: =(C11-B11)/B11*100 -> -14.104072 | E11: =C11/C$45*100 -> 1.1098987 | F11: 2564339.7 | G11: 3451776.2 | H11: =(G11-F11)/F11*100 -> 34.606824 | I11: =G11/G$45*100 -> 1.4574499 | J11: 3273324.3 | K11: 4590679.2 | L11: =(K11-J11)/J11*100 -> 40.245168 | M11: =K11/K$45*100 -> 1.6071475
A12: Meyve Sebze Mamulleri | B12: 231745.29 | C12: 237304.2 | D12: =(C12-B12)/B12*100 -> 2.3987158 | E12: =C12/C$45*100 -> 0.91677279 | F12: 2132563.8 | G12: 2066912.8 | H12: =(G12-F12)/F12*100 -> -3.0784991 | I12: =G12/G$45*100 -> 0.87271644 | J12: 2622081.2 | K12: 2519054.7 | L12: =(K12-J12)/J12*100 -> -3.929188 | M12: =K12/K$45*100 -> 0.88189403
A13: Kuru Meyve ve Mamulleri | B13: 188162.16 | C13: 212955.36 | D13: =(C13-B13)/B13*100 -> 13.176505 | E13: =C13/C$45*100 -> 0.82270638 | F13: 1405056.8 | G13: 1337961 | H13: =(G13-F13)/F13*100 -> -4.775306 | I13: =G13/G$45*100 -> 0.56492976 | J13: 1774785.9 | K13: 1666566.3 | L13: =(K13-J13)/J13*100 -> -6.0976189 | M13: =K13/K$45*100 -> 0.58344697
A14: Fındık ve Mamulleri | B14: 200088.88 | C14: 303701.63 | D14: =(C14-B14)/B14*100 -> 51.78336 | E14: =C14/C$45*100 -> 1.1732847 | F14: 1801029.4 | G14: 2223710.6 | H14: =(G14-F14)/F14*100 -> 23.468865 | I14: =G14/G$45*100 -> 0.93892144 | J14: 2376304.4 | K14: 2661029.4 | L14: =(K14-J14)/J14*100 -> 11.981841 | M14: =K14/K$45*100 -> 0.93159784
A15: Zeytin ve Zeytinyağı | B15: 35437.127 | C15: 33911.196 | D15: =(C15-B15)/B15*100 -> -4.3060226 | E15: =C15/C$45*100 -> 0.13100848 | F15: 416832.86 | G15: 307538.76 | H15: =(G15-F15)/F15*100 -> -26.220125 | I15: =G15/G$45*100 -> 0.12985266 | J15: 562523.73 | K15: 386445.32 | L15: =(K15-J15)/J15*100 -> -31.301507 | M15: =K15/K$45*100 -> 0.13529036
A16: Tütün | B16: 82093.362 | C16: 130160.56 | D16: =(C16-B16)/B16*100 -> 58.551868 | E16: =C16/C$45*100 -> 0.5028468 | F16: 887312.14 | G16: 1057625.3 | H16: =(G16-F16)/F16*100 -> 19.194283 | I16: =G16/G$45*100 -> 0.44656311 | J16: 1057344.8 | K16: 1229927.9 | L16: =(K16-J16)/J16*100 -> 16.322313 | M16: =K16/K$45*100 -> 0.43058457
A17: Süs Bitkileri ve Mamulleri | B17: 12525.304 | C17: 10574.232 | D17: =(C17-B17)/B17*100 -> -15.577045 | E17: =C17/C$45*100 -> 0.040851228 | F17: 133767.06 | G17: 131628.61 | H17: =(G17-F17)/F17*100 -> -1.5986362 | I17: =G17/G$45*100 -> 0.055577792 | J17: 157921.89 | K17: 157732.01 | L17: =(K17-J17)/J17*100 -> -0.12024014 | M17: =K17/K$45*100 -> 0.055220284
A18: B. HAYVANSAL ÜRÜNLER | B18: =B19 -> 381273.72 | C18: =C19 -> 422354.66 | D18: =(C18-B18)/B18*100 -> 10.774658 | E18: =C18/C$45*100 -> 1.6316747 | F18: =F19 -> 3237664.6 | G18: =G19 -> 3503751.2 | H18: =(G18-F18)/F18*100 -> 8.2184755 | I18: =G18/G$45*100 -> 1.4793954 | J18: =J19 -> 3933392.7 | K18: =K19 -> 4309969.1 | L18: =(K18-J18)/J18*100 -> 9.573831 | M18: =K18/K$45*100 -> 1.5088739
A19: Su Ürünleri ve Hayvansal Mamuller | B19: 381273.72 | C19: 422354.66 | D19: =(C19-B19)/B19*100 -> 10.774658 | E19: =C19/C$45*100 -> 1.6316747 | F19: 3237664.6 | G19: 3503751.2 | H19: =(G19-F19)/F19*100 -> 8.2184755 | I19: =G19/G$45*100 -> 1.4793954 | J19: 3933392.7 | K19: 4309969.1 | L19: =(K19-J19)/J19*100 -> 9.573831 | M19: =K19/K$45*100 -> 1.5088739
A20: C. AĞAÇ VE ORMAN ÜRÜNLERİ | B20: =B21 -> 731383.77 | C20: =C21 -> 670519.93 | D20: =(C20-B20)/B20*100 -> -8.3217374 | E20: =C20/C$45*100 -> 2.5904069 | F20: =F21 -> 6577754.7 | G20: =G21 -> 6468545.7 | H20: =(G20-F20)/F20*100 -> -1.6602779 | I20: =G20/G$45*100 -> 2.7312261 | J20: =J21 -> 7955929.9 | K20: =K21 -> 7874593.7 | L20: =(K20-J20)/J20*100 -> -1.0223341 | M20: =K20/K$45*100 -> 2.7568108
A21: Mobilya, Kağıt ve Orman Ürünleri | B21: 731383.77 | C21: 670519.93 | D21: =(C21-B21)/B21*100 -> -8.3217374 | E21: =C21/C$45*100 -> 2.5904069 | F21: 6577754.7 | G21: 6468545.7 | H21: =(G21-F21)/F21*100 -> -1.6602779 | I21: =G21/G$45*100 -> 2.7312261 | J21: 7955929.9 | K21: 7874593.7 | L21: =(K21-J21)/J21*100 -> -1.0223341 | M21: =K21/K$45*100 -> 2.7568108
A22: II. SANAYİ | B22: =B23+B27+B29 -> 17086264 | C22: =C23+C27+C29 -> 18298627 | D22: =(C22-B22)/B22*100 -> 7.0955381 | E22: =C22/C$45*100 -> 70.692735 | F22: =F23+F27+F29 -> 1.6008069e+08 | G22: =G23+G27+G29 -> 1.6947459e+08 | H22: =(G22-F22)/F22*100 -> 5.8682253 | I22: =G22/G$45*100 -> 71.557571 | J22: =J23+J27+J29 -> 1.9184433e+08 | K22: =K23+K27+K29 -> 2.0398921e+08 | L22: =(K22-J22)/J22*100 -> 6.3305903 | M22: =K22/K$45*100 -> 71.414435
A23: A. TARIMA DAYALI İŞLENMİŞ ÜRÜNLER | B23: =B24+B25+B26 -> 1254340.3 | C23: =C24+C25+C26 -> 1211550.5 | D23: =(C23-B23)/B23*100 -> -3.4113358 | E23: =C23/C$45*100 -> 4.6805599 | F23: =F24+F25+F26 -> 11426633 | G23: =G24+G25+G26 -> 11492597 | H23: =(G23-F23)/F23*100 -> 0.57727973 | I23: =G23/G$45*100 -> 4.8525406 | J23: =J24+J25+J26 -> 13793841 | K23: =K24+K25+K26 -> 13751491 | L23: =(K23-J23)/J23*100 -> -0.30702676 | M23: =K23/K$45*100 -> 4.8142494
A24: Tekstil ve Hammaddeleri | B24: 838978.86 | C24: 811007.99 | D24: =(C24-B24)/B24*100 -> -3.3339187 | E24: =C24/C$45*100 -> 3.1331517 | F24: 7881828.9 | G24: 7970796.7 | H24: =(G24-F24)/F24*100 -> 1.1287703 | I24: =G24/G$45*100 -> 3.3655243 | J24: 9515598.1 | K24: 9492674 | L24: =(K24-J24)/J24*100 -> -0.24091043 | M24: =K24/K$45*100 -> 3.3232833
A25: Deri ve Deri Mamulleri | B25: 129118.95 | C25: 118818.13 | D25: =(C25-B25)/B25*100 -> -7.9777784 | E25: =C25/C$45*100 -> 0.45902782 | F25: 1242913.4 | G25: 1223161.1 | H25: =(G25-F25)/F25*100 -> -1.5891936 | I25: =G25/G$45*100 -> 0.51645757 | J25: 1469321.4 | K25: 1424565.6 | L25: =(K25-J25)/J25*100 -> -3.0460145 | M25: =K25/K$45*100 -> 0.49872515
A26: Halı | B26: 286242.44 | C26: 281724.38 | D26: =(C26-B26)/B26*100 -> -1.5784035 | E26: =C26/C$45*100 -> 1.0883804 | F26: 2301891 | G26: 2298639.2 | H26: =(G26-F26)/F26*100 -> -0.14126664 | I26: =G26/G$45*100 -> 0.9705587 | J26: 2808921.9 | K26: 2834251 | L26: =(K26-J26)/J26*100 -> 0.90173481 | M26: =K26/K$45*100 -> 0.99224087
A27: B. KİMYEVİ MADDELER VE MAM. | B27: =B28 -> 2650682.4 | C27: =C28 -> 3013924.8 | D27: =(C27-B27)/B27*100 -> 13.703731 | E27: =C27/C$45*100 -> 11.643638 | F27: =F28 -> 26892125 | G27: =G28 -> 28844945 | H27: =(G27-F27)/F27*100 -> 7.2616778 | I27: =G27/G$45*100 -> 12.179255 | J27: =J28 -> 32066453 | K27: =K28 -> 33795938 | L27: =(K27-J27)/J27*100 -> 5.3934388 | M27: =K27/K$45*100 -> 11.831595
A28: Kimyevi Maddeler ve Mamulleri | B28: 2650682.4 | C28: 3013924.8 | D28: =(C28-B28)/B28*100 -> 13.703731 | E28: =C28/C$45*100 -> 11.643638 | F28: 26892125 | G28: 28844945 | H28: =(G28-F28)/F28*100 -> 7.2616778 | I28: =G28/G$45*100 -> 12.179255 | J28: 32066453 | K28: 33795938 | L28: =(K28-J28)/J28*100 -> 5.3934388 | M28: =K28/K$45*100 -> 11.831595
A29: C. SANAYİ MAMULLERİ | B29: =B30+B31+B32+B33+B34+B35+B36+B37+B38+B39+B40 -> 13181242 | C29: =C30+C31+C32+C33+C34+C35+C36+C37+C38+C39+C40 -> 14073151 | D29: =(C29-B29)/B29*100 -> 6.7665079 | E29: =C29/C$45*100 -> 54.368537 | F29: =F30+F31+F32+F33+F34+F35+F36+F37+F38+F39+F40 -> 1.2176193e+08 | G29: =G30+G31+G32+G33+G34+G35+G36+G37+G38+G39+G40 -> 1.2913705e+08 | H29: =(G29-F29)/F29*100 -> 6.0569936 | I29: =G29/G$45*100 -> 54.525775 | J29: =J30+J31+J32+J33+J34+J35+J36+J37+J38+J39+J40 -> 1.4598404e+08 | K29: =K30+K31+K32+K33+K34+K35+K36+K37+K38+K39+K40 -> 1.5644178e+08 | L29: =(K29-J29)/J29*100 -> 7.1636223 | M29: =K29/K$45*100 -> 54.76859
A30: Hazırgiyim ve Konfeksiyon | B30: 1508490.2 | C30: 1296330.2 | D30: =(C30-B30)/B30*100 -> -14.064394 | E30: =C30/C$45*100 -> 5.0080878 | F30: 14205838 | G30: 13659189 | H30: =(G30-F30)/F30*100 -> -3.8480624 | I30: =G30/G$45*100 -> 5.7673446 | J30: 16950381 | K30: 16213085 | L30: =(K30-J30)/J30*100 -> -4.3497319 | M30: =K30/K$45*100 -> 5.6760271
A31: Otomotiv Endüstrisi | B31: 3809159.3 | C31: 4032435.2 | D31: =(C31-B31)/B31*100 -> 5.861553 | E31: =C31/C$45*100 -> 15.57843 | F31: 34007311 | G31: 35174450 | H31: =(G31-F31)/F31*100 -> 3.4320231 | I31: =G31/G$45*100 -> 14.851773 | J31: 40727741 | K31: 42683678 | L31: =(K31-J31)/J31*100 -> 4.802468 | M31: =K31/K$45*100 -> 14.943098
A32: Gemi, Yat ve Hizmetleri | B32: 304893.73 | C32: 233085.51 | D32: =(C32-B32)/B32*100 -> -23.551884 | E32: =C32/C$45*100 -> 0.90047482 | F32: 1788059.4 | G32: 2231277.2 | H32: =(G32-F32)/F32*100 -> 24.787645 | I32: =G32/G$45*100 -> 0.94211634 | J32: 2161972.7 | K32: 2686746.4 | L32: =(K32-J32)/J32*100 -> 24.27291 | M32: =K32/K$45*100 -> 0.94060108
A33: Elektrik ve Elektronik | B33: 1640848.5 | C33: 1929862.4 | D33: =(C33-B33)/B33*100 -> 17.613684 | E33: =C33/C$45*100 -> 7.4556005 | F33: 14520294 | G33: 16636336 | H33: =(G33-F33)/F33*100 -> 14.572995 | I33: =G33/G$45*100 -> 7.0243911 | J33: 17445061 | K33: 19839374 | L33: =(K33-J33)/J33*100 -> 13.724876 | M33: =K33/K$45*100 -> 6.945552
A34: Makine ve Aksamları | B34: 1066912.7 | C34: 954534.88 | D34: =(C34-B34)/B34*100 -> -10.53299 | E34: =C34/C$45*100 -> 3.6876364 | F34: 9124746.5 | G34: 9181865.6 | H34: =(G34-F34)/F34*100 -> 0.62598009 | I34: =G34/G$45*100 -> 3.8768762 | J34: 11031260 | K34: 11310489 | L34: =(K34-J34)/J34*100 -> 2.5312523 | M34: =K34/K$45*100 -> 3.9596808
A35: Demir ve Demir Dışı Metaller | B35: 1219311.5 | C35: 1324090.4 | D35: =(C35-B35)/B35*100 -> 8.5932838 | E35: =C35/C$45*100 -> 5.1153331 | F35: 11082750 | G35: 12555562 | H35: =(G35-F35)/F35*100 -> 13.289229 | I35: =G35/G$45*100 -> 5.3013585 | J35: 13113275 | K35: 14711222 | L35: =(K35-J35)/J35*100 -> 12.185719 | M35: =K35/K$45*100 -> 5.150241
A36: Çelik | B36: 1286962.8 | C36: 1352621.9 | D36: =(C36-B36)/B36*100 -> 5.1018594 | E36: =C36/C$45*100 -> 5.2255582 | F36: 13727772 | G36: 14081405 | H36: =(G36-F36)/F36*100 -> 2.5760417 | I36: =G36/G$45*100 -> 5.9456178 | J36: 16407352 | K36: 16885884 | L36: =(K36-J36)/J36*100 -> 2.9165697 | M36: =K36/K$45*100 -> 5.9115668
A37: Çimento Cam Seramik ve Toprak Ürünleri | B37: 402911.56 | C37: 390090.82 | D37: =(C37-B37)/B37*100 -> -3.1820234 | E37: =C37/C$45*100 -> 1.5070304 | F37: 3753798.9 | G37: 3786883.2 | H37: =(G37-F37)/F37*100 -> 0.88135594 | I37: =G37/G$45*100 -> 1.5989427 | J37: 4438635.2 | K37: 4531481.9 | L37: =(K37-J37)/J37*100 -> 2.091784 | M37: =K37/K$45*100 -> 1.5864232
A38: Mücevher | B38: 568425.1 | C38: 760800.46 | D38: =(C38-B38)/B38*100 -> 33.843572 | E38: =C38/C$45*100 -> 2.9391859 | F38: 6760502.4 | G38: 7633173.6 | H38: =(G38-F38)/F38*100 -> 12.908378 | I38: =G38/G$45*100 -> 3.2229691 | J38: 8075300.5 | K38: 8801330.5 | L38: =(K38-J38)/J38*100 -> 8.9907496 | M38: =K38/K$45*100 -> 3.0812514
A39: Savunma ve Havacılık Sanayii | B39: 707493.66 | C39: 1140025.6 | D39: =(C39-B39)/B39*100 -> 61.135799 | E39: =C39/C$45*100 -> 4.404239 | F39: 6679531.8 | G39: 8050042.6 | H39: =(G39-F39)/F39*100 -> 20.518068 | I39: =G39/G$45*100 -> 3.3989845 | J39: 8290704.2 | K39: 11357392 | L39: =(K39-J39)/J39*100 -> 36.989472 | M39: =K39/K$45*100 -> 3.9761011
A40: İklimlendirme Sanayii | B40: 665832.62 | C40: 659274.19 | D40: =(C40-B40)/B40*100 -> -0.98499663 | E40: =C40/C$45*100 -> 2.5469614 | F40: 6111329.6 | G40: 6146862.6 | H40: =(G40-F40)/F40*100 -> 0.5814277 | I40: =G40/G$45*100 -> 2.5954012 | J40: 7342355.2 | K40: 7421100.8 | L40: =(K40-J40)/J40*100 -> 1.0724839 | M40: =K40/K$45*100 -> 2.5980478
A41: III. MADENCİLİK | B41: =B42 -> 583303.74 | C41: =C42 -> 688042.73 | D41: =(C41-B41)/B41*100 -> 17.956167 | E41: =C41/C$45*100 -> 2.6581023 | F41: =F42 -> 5090032.3 | G41: =G42 -> 6098834.6 | H41: =(G41-F41)/F41*100 -> 19.819172 | I41: =G41/G$45*100 -> 2.5751223 | J41: =J42 -> 6109866.1 | K41: =K42 -> 7219159 | L41: =(K41-J41)/J41*100 -> 18.155765 | M41: =K41/K$45*100 -> 2.5273501
A42: Madencilik Ürünleri | B42: 583303.74 | C42: 688042.73 | D42: =(C42-B42)/B42*100 -> 17.956167 | E42: =C42/C$45*100 -> 2.6581023 | F42: 5090032.3 | G42: 6098834.6 | H42: =(G42-F42)/F42*100 -> 19.819172 | I42: =G42/G$45*100 -> 2.5751223 | J42: 6109866.1 | K42: 7219159 | L42: =(K42-J42)/J42*100 -> 18.155765 | M42: =K42/K$45*100 -> 2.5273501
A43: T O P L A M (TİM*) | B43: =B8+B22+B41 -> 20956387 | C43: =C8+C22+C41 -> 22334023 | D43: =(C43-B43)/B43*100 -> 6.5738219 | E43: =C43/C$45*100 -> 86.282604 | F43: =F8+F22+F41 -> 1.9445169e+08 | G43: =G8+G22+G41 -> 2.0603771e+08 | H43: =(G43-F43)/F43*100 -> 5.9583047 | I43: =G43/G$45*100 -> 86.995687 | J43: =J8+J22+J41 -> 2.3397482e+08 | K43: =K8+K22+K41 -> 2.4875462e+08 | L43: =(K43-J43)/J43*100 -> 6.3168312 | M43: =K43/K$45*100 -> 87.086323
A44: İhracatçı Birlikleri Kaydından Muaf İhracat ile Antrepo ve Serbest Bölgeler Farkı | B44: =B45-B43 -> 2993113.3 | C44: =C45-C43 -> 3550711.5 | D44: =(C44-B44)/B44*100 -> 18.629371 | E44: =C44/C$45*100 -> 13.717396 | F44: =F45-F43 -> 29977312 | G44: =G45-G43 -> 30798986 | H44: =(G44-F44)/F44*100 -> 2.7409857 | I44: =G44/G$45*100 -> 13.004313 | J44: =J45-J43 -> 36097992 | K44: =K45-K43 -> 36886811 | L44: =(K44-J44)/J44*100 -> 2.1852138 | M44: =K44/K$45*100 -> 12.913677
A45: GENEL İHRACAT TOPLAMI | B45: 23949501 | C45: 25884734 | D45: =(C45-B45)/B45*100 -> 8.0804765 | E45: =C45/C$45*100 -> 100 | F45: 2.24429e+08 | G45: 2.368367e+08 | H45: =(G45-F45)/F45*100 -> 5.5285627 | I45: =G45/G$45*100 -> 100 | J45: 2.7007282e+08 | K45: 2.8564143e+08 | L45: =(K45-J45)/J45*100 -> 5.7645983 | M45: =K45/K$45*100 -> 100

Sheet SECILMIS_ISTATISTIK
A2: Tablo 1
A3: En yüksek ihracat artışı elde edilen ilk 10 ülke*
A5: ÜLKE (Bin$) | B5: 2025 1 - 31 EKIM | C5: 2026 1 - 31 EKIM | D5: Değ. %
A6: ERMENİSTAN | B6: 21.3285 | C6: 2271.9687 | D6: =(C6-B6)/B6 -> 105.52267
A7: CEBELİTARIK | B7: 670.55611 | C7: 10625.299 | D7: =(C7-B7)/B7 -> 14.845503
A8: GUAM | B8: 13.32292 | C8: 193.80677 | D8: =(C8-B8)/B8 -> 13.546869
A9: BELİZE | B9: 395.65328 | C9: 3279.3973 | D9: =(C9-B9)/B9 -> 7.2885634
A10: TOGO | B10: 7820.529 | C10: 59210.534 | D10: =(C10-B10)/B10 -> 6.5711674
A11: BAHAMALAR | B11: 694.11535 | C11: 3271.4644 | D11: =(C11-B11)/B11 -> 3.7131423
A12: SURİNAM | B12: 1194.0682 | C12: 5286.7596 | D12: =(C12-B12)/B12 -> 3.4275191
A13: ORTA AFRİKA CUMHURİYETİ | B13: 191.92093 | C13: 752.83227 | D13: =(C13-B13)/B13 -> 2.9226168
A14: ENDONEZYA | B14: 28101.17 | C14: 105461.18 | D14: =(C14-B14)/B14 -> 2.7529106
A15: AHL SERBEST BÖLGESİ | B15: 1664.8392 | C15: 5283.8354 | D15: =(C15-B15)/B15 -> 2.1737813
A18: Tablo 2
A19: En fazla ihracat yapılan ilk 10 ülke
A21: ÜLKE (Bin$) | B21: 2025 1 - 31 EKIM | C21: 2026 1 - 31 EKIM | D21: Değ. %
A22: ALMANYA | B22: 1813788.3 | C22: 1885170.1 | D22: =(C22-B22)/B22 -> 0.039355083
A23: ABD | B23: 1197075.4 | C23: 1504593.5 | D23: =(C23-B23)/B23 -> 0.25689116
A24: BİRLEŞİK KRALLIK | B24: 1289112.6 | C24: 1306610.7 | D24: =(C24-B24)/B24 -> 0.013573738
A25: İTALYA | B25: 1068305.3 | C25: 1144351.7 | D25: =(C25-B25)/B25 -> 0.071184151
A26: İSPANYA | B26: 922201.2 | C26: 929283.84 | D26: =(C26-B26)/B26 -> 0.0076801497
A27: FRANSA | B27: 891615.46 | C27: 927528.32 | D27: =(C27-B27)/B27 -> 0.040278424
A28: IRAK | B28: 970862.84 | C28: 840464.91 | D28: =(C28-B28)/B28 -> -0.13431138
A29: HOLLANDA | B29: 592661.23 | C29: 646950.36 | D29: =(C29-B29)/B29 -> 0.091602305
A30: POLONYA | B30: 688221.95 | C30: 594448.88 | D30: =(C30-B30)/B30 -> -0.1362541
A31: MISIR | B31: 316773.9 | C31: 568330.79 | D31: =(C31-B31)/B31 -> 0.79412124
A33: Tablo 3
A34: İhracatını en yüksek oranlı artıran ilk 10 sektör
A36: SEKTÖR (Bin$) | B36: 2025 1 - 31 EKIM | C36: 2026 1 - 31 EKIM | D36: Değ. %
A37: Savunma ve Havacılık Sanayii | B37: 707493.66 | C37: 1140025.6 | D37: =(C37-B37)/B37 -> 0.61135799
A38: Tütün | B38: 82093.362 | C38: 130160.56 | D38: =(C38-B38)/B38 -> 0.58551868
A39: Fındık ve Mamulleri | B39: 200088.88 | C39: 303701.63 | D39: =(C39-B39)/B39 -> 0.5178336
A40: Mücevher | B40: 568425.1 | C40: 760800.46 | D40: =(C40-B40)/B40 -> 0.33843572
A41: Madencilik Ürünleri | B41: 583303.74 | C41: 688042.73 | D41: =(C41-B41)/B41 -> 0.17956167
A42: Elektrik ve Elektronik | B42: 1640848.5 | C42: 1929862.4 | D42: =(C42-B42)/B42 -> 0.17613684
A43: Kimyevi Maddeler ve Mamulleri | B43: 2650682.4 | C43: 3013924.8 | D43: =(C43-B43)/B43 -> 0.13703731
A44: Kuru Meyve ve Mamulleri | B44: 188162.16 | C44: 212955.36 | D44: =(C44-B44)/B44 -> 0.13176505
A45: Su Ürünleri ve Hayvansal Mamuller | B45: 381273.72 | C45: 422354.66 | D45: =(C45-B45)/B45 -> 0.10774658
A46: Demir ve Demir Dışı Metaller | B46: 1219311.5 | C46: 1324090.4 | D46: =(C46-B46)/B46 -> 0.085932838
A48: Tablo 4
A49: En fazla ihracat yapan ilk 10 sektör
A51: SEKTÖR (Bin$) | B51: 2025 1 - 31 EKIM | C51: 2026 1 - 31 EKIM | D51: Değ. %
A52: Otomotiv Endüstrisi | B52: 3809159.3 | C52: 4032435.2 | D52: =(C52-B52)/B52 -> 0.05861553
A53: Kimyevi Maddeler ve Mamulleri | B53: 2650682.4 | C53: 3013924.8 | D53: =(C53-B53)/B53 -> 0.13703731
A54: Elektrik ve Elektronik | B54: 1640848.5 | C54: 1929862.4 | D54: =(C54-B54)/B54 -> 0.17613684
A55: Çelik | B55: 1286962.8 | C55: 1352621.9 | D55: =(C55-B55)/B55 -> 0.051018594
A56: Demir ve Demir Dışı Metaller | B56: 1219311.5 | C56: 1324090.4 | D56: =(C56-B56)/B56 -> 0.085932838
A57: Hazırgiyim ve Konfeksiyon | B57: 1508490.2 | C57: 1296330.2 | D57: =(C57-B57)/B57 -> -0.14064394
A58: Savunma ve Havacılık Sanayii | B58: 707493.66 | C58: 1140025.6 | D58: =(C58-B58)/B58 -> 0.61135799
A59: Hububat, Bakliyat, Yağlı Tohumlar ve Mamulleri | B59: 1089641.7 | C59: 1038577.3 | D59: =(C59-B59)/B59 -> -0.046863441
A60: Makine ve Aksamları | B60: 1066912.7 | C60: 954534.88 | D60: =(C60-B60)/B60 -> -0.1053299
A61: Tekstil ve Hammaddeleri | B61: 838978.86 | C61: 811007.99 | D61: =(C61-B61)/B61 -> -0.033339187
A63: Tablo 5
A64: En fazla ihracat yapan ilk 10 il
A66: İL (Bin$) | B66: 2025 1 - 31 EKIM | C66: 2026 1 - 31 EKIM | D66: Değ. %
A67: İSTANBUL | B67: 8209461.3 | C67: 8966062.2 | D67: =(C67-B67)/B67 -> 0.092162066
A68: KOCAELI | B68: 1961792.6 | C68: 2158351.5 | D68: =(C68-B68)/B68 -> 0.10019352
A69: ANKARA | B69: 1577113.2 | C69: 1881033.5 | D69: =(C69-B69)/B69 -> 0.19270671
A70: BURSA | B70: 1615580 | C70: 1741360.5 | D70: =(C70-B70)/B70 -> 0.077854745
A71: İZMIR | B71: 1170632 | C71: 1215879.8 | D71: =(C71-B71)/B71 -> 0.038652458
A72: GAZIANTEP | B72: 927035.73 | C72: 1024399.8 | D72: =(C72-B72)/B72 -> 0.10502732
A73: DENIZLI | B73: 411630.32 | C73: 468604.62 | D73: =(C73-B73)/B73 -> 0.13841132
A74: SAKARYA | B74: 699108.16 | C74: 429384 | D74: =(C74-B74)/B74 -> -0.38581177
A75: MANISA | B75: 478582.37 | C75: 409782.29 | D75: =(C75-B75)/B75 -> -0.14375808
A76: KONYA | B76: 306349.81 | C76: 328176.02 | D76: =(C76-B76)/B76 -> 0.071246038
A78: Tablo 6
A79: İhracatını en yüksek oranlı artıran ilk 10 il
A81: İL (Bin$) | B81: 2025 1 - 31 EKIM | C81: 2026 1 - 31 EKIM | D81: Değ. %
A82: KIRIKKALE | B82: 2813.1109 | C82: 24030.73 | D82: =(C82-B82)/B82 -> 7.542404
A83: BITLIS | B83: 526.84303 | C83: 1595.3691 | D83: =(C83-B83)/B83 -> 2.0281679
A84: HAKKARI | B84: 1655.8047 | C84: 4386.9919 | D84: =(C84-B84)/B84 -> 1.6494621
A85: GÜMÜŞHANE | B85: 14801.959 | C85: 34546.417 | D85: =(C85-B85)/B85 -> 1.3339085
A86: TRABZON | B86: 79100.417 | C86: 165449.66 | D86: =(C86-B86)/B86 -> 1.0916408
A87: TUNCELI | B87: 109.42575 | C87: 214.31389 | D87: =(C87-B87)/B87 -> 0.95853252
A88: SIIRT | B88: 2282.3055 | C88: 3900.1184 | D88: =(C88-B88)/B88 -> 0.70885027
A89: NIĞDE | B89: 6862.8177 | C89: 11557.376 | D89: =(C89-B89)/B89 -> 0.68405691
A90: MALATYA | B90: 28584.531 | C90: 44819.702 | D90: =(C90-B90)/B90 -> 0.56797049
A91: OSMANIYE | B91: 15580.35 | C91: 23784.016 | D91: =(C91-B91)/B91 -> 0.52653927
A92: NOT =2025 Yılında 0 fobusd üzerindeki İller baz alınmıştır.

Sheet SEKTOR_TL
B1: 2025 İHRACAT RAKAMLARI - TL
A5: SEKTÖREL BAZDA İHRACAT KAYIT RAKAMLARI - 1.000 TL
B6: =SEKTOR_USD!B6 -> 1 - 31 EKIM | F6: =SEKTOR_USD!F6 -> 1 OCAK - 31 EKIM | J6: SON 12 AYLIK
A7: SEKTÖRLER | B7: =SEKTOR_USD!B7 -> 2025 | C7: =SEKTOR_USD!C7 -> 2026 | D7: Değişim ('26/'25) | E7: Pay(26) (%) | H7: Değişim ('26/'25) | I7: Pay(26) (%) | L7: Değişim ('26/'25) | M7: Pay(26) (%)
A8: I. TARIM | B8: =SEKTOR_USD!B8*$B$47 -> 1.3715979e+08 | C8: =SEKTOR_USD!C8*$C$47 -> 1.6506198e+08 | D8: =(C8-B8)/B8*100 -> 20.342838 | E8: =C8/C$43*100 -> 14.987687 | F8: =SEKTOR_USD!F8*$B$48 -> 1.1371289e+09 | G8: =SEKTOR_USD!G8*$C$48 -> 1.3994995e+09 | H8: =(G8-F8)/F8*100 -> 23.073072 | I8: =G8/G$43*100 -> 14.785784 | J8: =SEKTOR_USD!J8*$B$49 -> 1.3736448e+09 | K8: =SEKTOR_USD!K8*$C$49 -> 1.7025827e+09 | L8: =(K8-J8)/J8*100 -> 23.946358 | M8: =K8/K$43*100 -> 15.093688
A9: A. BİTKİSEL ÜRÜNLER | B9: =SEKTOR_USD!B9*$B$47 -> 90728313 | C9: =SEKTOR_USD!C9*$C$47 -> 1.1117103e+08 | D9: =(C9-B9)/B9*100 -> 22.5318 | E9: =C9/C$43*100 -> 10.09437 | F9: =SEKTOR_USD!F9*$B$48 -> 7.5594621e+08 | G9: =SEKTOR_USD!G9*$C$48 -> 9.4138199e+08 | H9: =(G9-F9)/F9*100 -> 24.530287 | I9: =G9/G$43*100 -> 9.9457492 | J9: =SEKTOR_USD!J9*$B$49 -> 9.2024604e+08 | K9: =SEKTOR_USD!K9*$C$49 -> 1.1500581e+09 | L9: =(K9-J9)/J9*100 -> 24.972891 | M9: =K9/K$43*100 -> 10.195463
A10: =SEKTOR_USD!A10 -> Hububat, Bakliyat, Yağlı Tohumlar ve Mamulleri | B10: =SEKTOR_USD!B10*$B$47 -> 45471019 | C10: =SEKTOR_USD!C10*$C$47 -> 51213483 | D10: =(C10-B10)/B10*100 -> 12.628845 | E10: =C10/C$43*100 -> 4.6502026 | F10: =SEKTOR_USD!F10*$B$48 -> 3.9319146e+08 | G10: =SEKTOR_USD!G10*$C$48 -> 4.5547801e+08 | H10: =(G10-F10)/F10*100 -> 15.841278 | I10: =G10/G$43*100 -> 4.8121486 | J10: =SEKTOR_USD!J10*$B$49 -> 4.6932745e+08 | K10: =SEKTOR_USD!K10*$C$49 -> 5.5096863e+08 | L10: =(K10-J10)/J10*100 -> 17.395358 | M10: =K10/K$43*100 -> 4.8844317
A11: =SEKTOR_USD!A11 -> Yaş Meyve ve Sebze | B11: =SEKTOR_USD!B11*$B$47 -> 13957431 | C11: =SEKTOR_USD!C11*$C$47 -> 14166826 | D11: =(C11-B11)/B11*100 -> 1.5002417 | E11: =C11/C$43*100 -> 1.2863528 | F11: =SEKTOR_USD!F11*$B$48 -> 99586362 | G11: =SEKTOR_USD!G11*$C$48 -> 1.5857119e+08 | H11: =(G11-F11)/F11*100 -> 59.229827 | I11: =G11/G$43*100 -> 1.6753128 | J11: =SEKTOR_USD!J11*$B$49 -> 1.2482807e+08 | K11: =SEKTOR_USD!K11*$C$49 -> 2.0817023e+08 | L11: =(K11-J11)/J11*100 -> 66.765565 | M11: =K11/K$43*100 -> 1.8454649
A12: =SEKTOR_USD!A12 -> Meyve Sebze Mamulleri | B12: =SEKTOR_USD!B12*$B$47 -> 9670788.9 | C12: =SEKTOR_USD!C12*$C$47 -> 11701753 | D12: =(C12-B12)/B12*100 -> 21.001014 | E12: =C12/C$43*100 -> 1.0625233 | F12: =SEKTOR_USD!F12*$B$48 -> 82818306 | G12: =SEKTOR_USD!G12*$C$48 -> 94951935 | H12: =(G12-F12)/F12*100 -> 14.650902 | I12: =G12/G$43*100 -> 1.0031721 | J12: =SEKTOR_USD!J12*$B$49 -> 99992944 | K12: =SEKTOR_USD!K12*$C$49 -> 1.1422977e+08 | L12: =(K12-J12)/J12*100 -> 14.237827 | M12: =K12/K$43*100 -> 1.0126665
A13: =SEKTOR_USD!A13 -> Kuru Meyve ve Mamulleri | B13: =SEKTOR_USD!B13*$B$47 -> 7852054.1 | C13: =SEKTOR_USD!C13*$C$47 -> 10501082 | D13: =(C13-B13)/B13*100 -> 33.736755 | E13: =C13/C$43*100 -> 0.95350202 | F13: =SEKTOR_USD!F13*$B$48 -> 54565506 | G13: =SEKTOR_USD!G13*$C$48 -> 61464608 | H13: =(G13-F13)/F13*100 -> 12.643706 | I13: =G13/G$43*100 -> 0.64937675 | J13: =SEKTOR_USD!J13*$B$49 -> 67681378 | K13: =SEKTOR_USD!K13*$C$49 -> 75572584 | L13: =(K13-J13)/J13*100 -> 11.659345 | M13: =K13/K$43*100 -> 0.66996395
A14: =SEKTOR_USD!A14 -> Fındık ve Mamulleri | B14: =SEKTOR_USD!B14*$B$47 -> 8349759 | C14: =SEKTOR_USD!C14*$C$47 -> 14975889 | D14: =(C14-B14)/B14*100 -> 79.357137 | E14: =C14/C$43*100 -> 1.359816 | F14: =SEKTOR_USD!F14*$B$48 -> 69943138 | G14: =SEKTOR_USD!G14*$C$48 -> 1.0215507e+08 | H14: =(G14-F14)/F14*100 -> 46.054453 | I14: =G14/G$43*100 -> 1.0792736 | J14: =SEKTOR_USD!J14*$B$49 -> 90620255 | K14: =SEKTOR_USD!K14*$C$49 -> 1.2066779e+08 | L14: =(K14-J14)/J14*100 -> 33.157635 | M14: =K14/K$43*100 -> 1.0697407
A15: =SEKTOR_USD!A15 -> Zeytin ve Zeytinyağı | B15: =SEKTOR_USD!B15*$B$47 -> 1478800.2 | C15: =SEKTOR_USD!C15*$C$47 -> 1672201.5 | D15: =(C15-B15)/B15*100 -> 13.078257 | E15: =C15/C$43*100 -> 0.15183649 | F15: =SEKTOR_USD!F15*$B$48 -> 16187741 | G15: =SEKTOR_USD!G15*$C$48 -> 14128027 | H15: =(G15-F15)/F15*100 -> -12.723914 | I15: =G15/G$43*100 -> 0.14926333 | J15: =SEKTOR_USD!J15*$B$49 -> 21451816 | K15: =SEKTOR_USD!K15*$C$49 -> 17523859 | L15: =(K15-J15)/J15*100 -> -18.310604 | M15: =K15/K$43*100 -> 0.15535202
A16: =SEKTOR_USD!A16 -> Tütün | B16: =SEKTOR_USD!B16*$B$47 -> 3425776.5 | C16: =SEKTOR_USD!C16*$C$47 -> 6418372.1 | D16: =(C16-B16)/B16*100 -> 87.355249 | E16: =C16/C$43*100 -> 0.58279048 | F16: =SEKTOR_USD!F16*$B$48 -> 34458847 | G16: =SEKTOR_USD!G16*$C$48 -> 48586264 | H16: =(G16-F16)/F16*100 -> 40.997941 | I16: =G16/G$43*100 -> 0.51331638 | J16: =SEKTOR_USD!J16*$B$49 -> 40321794 | K16: =SEKTOR_USD!K16*$C$49 -> 55772659 | L16: =(K16-J16)/J16*100 -> 38.318892 | M16: =K16/K$43*100 -> 0.49443421
A17: =SEKTOR_USD!A17 -> Süs Bitkileri ve Mamulleri | B17: =SEKTOR_USD!B17*$B$47 -> 522684.08 | C17: =SEKTOR_USD!C17*$C$47 -> 521427.97 | D17: =(C17-B17)/B17*100 -> -0.24031967 | E17: =C17/C$43*100 -> 0.047345845 | F17: =SEKTOR_USD!F17*$B$48 -> 5194855.7 | G17: =SEKTOR_USD!G17*$C$48 -> 6046888.4 | H17: =(G17-F17)/F17*100 -> 16.40147 | I17: =G17/G$43*100 -> 0.063885687 | J17: =SEKTOR_USD!J17*$B$49 -> 6022343.9 | K17: =SEKTOR_USD!K17*$C$49 -> 7152560.1 | L17: =(K17-J17)/J17*100 -> 18.767048 | M17: =K17/K$43*100 -> 0.063408675
A18: B. HAYVANSAL ÜRÜNLER | B18: =SEKTOR_USD!B18*$B$47 -> 15910648 | C18: =SEKTOR_USD!C18*$C$47 -> 20826811 | D18: =(C18-B18)/B18*100 -> 30.898575 | E18: =C18/C$43*100 -> 1.8910819 | F18: =SEKTOR_USD!F18*$B$48 -> 1.2573499e+08 | G18: =SEKTOR_USD!G18*$C$48 -> 1.6095887e+08 | H18: =(G18-F18)/F18*100 -> 28.01438 | I18: =G18/G$43*100 -> 1.7005388 | J18: =SEKTOR_USD!J18*$B$49 -> 1.4999975e+08 | K18: =SEKTOR_USD!K18*$C$49 -> 1.9544107e+08 | L18: =(K18-J18)/J18*100 -> 30.29427 | M18: =K18/K$43*100 -> 1.7326187
A19: =SEKTOR_USD!A19 -> Su Ürünleri ve Hayvansal Mamuller | B19: =SEKTOR_USD!B19*$B$47 -> 15910648 | C19: =SEKTOR_USD!C19*$C$47 -> 20826811 | D19: =(C19-B19)/B19*100 -> 30.898575 | E19: =C19/C$43*100 -> 1.8910819 | F19: =SEKTOR_USD!F19*$B$48 -> 1.2573499e+08 | G19: =SEKTOR_USD!G19*$C$48 -> 1.6095887e+08 | H19: =(G19-F19)/F19*100 -> 28.01438 | I19: =G19/G$43*100 -> 1.7005388 | J19: =SEKTOR_USD!J19*$B$49 -> 1.4999975e+08 | K19: =SEKTOR_USD!K19*$C$49 -> 1.9544107e+08 | L19: =(K19-J19)/J19*100 -> 30.29427 | M19: =K19/K$43*100 -> 1.7326187
A20: C. AĞAÇ VE ORMAN ÜRÜNLERİ | B20: =SEKTOR_USD!B20*$B$47 -> 30520828 | C20: =SEKTOR_USD!C20*$C$47 -> 33064136 | D20: =(C20-B20)/B20*100 -> 8.3330262 | E20: =C20/C$43*100 -> 3.0022354 | F20: =SEKTOR_USD!F20*$B$48 -> 2.5544769e+08 | G20: =SEKTOR_USD!G20*$C$48 -> 2.971586e+08 | H20: =(G20-F20)/F20*100 -> 16.328552 | I20: =G20/G$43*100 -> 3.1394959 | J20: =SEKTOR_USD!J20*$B$49 -> 3.0339901e+08 | K20: =SEKTOR_USD!K20*$C$49 -> 3.5708355e+08 | L20: =(K20-J20)/J20*100 -> 17.694367 | M20: =K20/K$43*100 -> 3.1656071
A21: =SEKTOR_USD!A21 -> Mobilya, Kağıt ve Orman Ürünleri | B21: =SEKTOR_USD!B21*$B$47 -> 30520828 | C21: =SEKTOR_USD!C21*$C$47 -> 33064136 | D21: =(C21-B21)/B21*100 -> 8.3330262 | E21: =C21/C$43*100 -> 3.0022354 | F21: =SEKTOR_USD!F21*$B$48 -> 2.5544769e+08 | G21: =SEKTOR_USD!G21*$C$48 -> 2.971586e+08 | H21: =(G21-F21)/F21*100 -> 16.328552 | I21: =G21/G$43*100 -> 3.1394959 | J21: =SEKTOR_USD!J21*$B$49 -> 3.0339901e+08 | K21: =SEKTOR_USD!K21*$C$49 -> 3.5708355e+08 | L21: =(K21-J21)/J21*100 -> 17.694367 | M21: =K21/K$43*100 -> 3.1656071
A22: II. SANAYİ | B22: =SEKTOR_USD!B22*$B$47 -> 7.1301408e+08 | C22: =SEKTOR_USD!C22*$C$47 -> 9.0232707e+08 | D22: =(C22-B22)/B22*100 -> 26.551087 | E22: =C22/C$43*100 -> 81.93162 | F22: =SEKTOR_USD!F22*$B$48 -> 6.2167481e+09 | G22: =SEKTOR_USD!G22*$C$48 -> 7.7854953e+09 | H22: =(G22-F22)/F22*100 -> 25.23421 | I22: =G22/G$43*100 -> 82.254159 | J22: =SEKTOR_USD!J22*$B$49 -> 7.3159746e+09 | K22: =SEKTOR_USD!K22*$C$49 -> 9.2501523e+09 | L22: =(K22-J22)/J22*100 -> 26.437732 | M22: =K22/K$43*100 -> 82.004191
A23: A. TARIMA DAYALI İŞLENMİŞ ÜRÜNLER | B23: =SEKTOR_USD!B23*$B$47 -> 52343932 | C23: =SEKTOR_USD!C23*$C$47 -> 59742997 | D23: =(C23-B23)/B23*100 -> 14.135478 | E23: =C23/C$43*100 -> 5.4246855 | F23: =SEKTOR_USD!F23*$B$48 -> 4.4375433e+08 | G23: =SEKTOR_USD!G23*$C$48 -> 5.2795856e+08 | H23: =(G23-F23)/F23*100 -> 18.975416 | I23: =G23/G$43*100 -> 5.5779093 | J23: =SEKTOR_USD!J23*$B$49 -> 5.2602749e+08 | K23: =SEKTOR_USD!K23*$C$49 -> 6.2357897e+08 | L23: =(K23-J23)/J23*100 -> 18.54494 | M23: =K23/K$43*100 -> 5.5281348
A24: =SEKTOR_USD!A24 -> Tekstil ve Hammaddeleri | B24: =SEKTOR_USD!B24*$B$47 -> 35010798 | C24: =SEKTOR_USD!C24*$C$47 -> 39991769 | D24: =(C24-B24)/B24*100 -> 14.226959 | E24: =C24/C$43*100 -> 3.6312669 | F24: =SEKTOR_USD!F24*$B$48 -> 3.0609153e+08 | G24: =SEKTOR_USD!G24*$C$48 -> 3.6617053e+08 | H24: =(G24-F24)/F24*100 -> 19.627788 | I24: =G24/G$43*100 -> 3.8686105 | J24: =SEKTOR_USD!J24*$B$49 -> 3.6287688e+08 | K24: =SEKTOR_USD!K24*$C$49 -> 4.3045747e+08 | L24: =(K24-J24)/J24*100 -> 18.623559 | M24: =K24/K$43*100 -> 3.8160795
A25: =SEKTOR_USD!A25 -> Deri ve Deri Mamulleri | B25: =SEKTOR_USD!B25*$B$47 -> 5388166.3 | C25: =SEKTOR_USD!C25*$C$47 -> 5859063.5 | D25: =(C25-B25)/B25*100 -> 8.7394707 | E25: =C25/C$43*100 -> 0.53200505 | F25: =SEKTOR_USD!F25*$B$48 -> 48268653 | G25: =SEKTOR_USD!G25*$C$48 -> 56190813 | H25: =(G25-F25)/F25*100 -> 16.41264 | I25: =G25/G$43*100 -> 0.59365882 | J25: =SEKTOR_USD!J25*$B$49 -> 56032502 | K25: =SEKTOR_USD!K25*$C$49 -> 64598756 | L25: =(K25-J25)/J25*100 -> 15.288009 | M25: =K25/K$43*100 -> 0.57267908
A26: =SEKTOR_USD!A26 -> Halı | B26: =SEKTOR_USD!B26*$B$47 -> 11944969 | C26: =SEKTOR_USD!C26*$C$47 -> 13892165 | D26: =(C26-B26)/B26*100 -> 16.30139 | E26: =C26/C$43*100 -> 1.2614135 | F26: =SEKTOR_USD!F26*$B$48 -> 89394144 | G26: =SEKTOR_USD!G26*$C$48 -> 1.0559722e+08 | H26: =(G26-F26)/F26*100 -> 18.125429 | I26: =G26/G$43*100 -> 1.11564 | J26: =SEKTOR_USD!J26*$B$49 -> 1.0711811e+08 | K26: =SEKTOR_USD!K26*$C$49 -> 1.2852274e+08 | L26: =(K26-J26)/J26*100 -> 19.982278 | M26: =K26/K$43*100 -> 1.1393762
A27: B. KİMYEVİ MADDELER VE MAM. | B27: =SEKTOR_USD!B27*$B$47 -> 1.1061364e+08 | C27: =SEKTOR_USD!C27*$C$47 -> 1.4862022e+08 | D27: =(C27-B27)/B27*100 -> 34.359759 | E27: =C27/C$43*100 -> 13.494769 | F27: =SEKTOR_USD!F27*$B$48 -> 1.0443581e+09 | G27: =SEKTOR_USD!G27*$C$48 -> 1.3251083e+09 | H27: =(G27-F27)/F27*100 -> 26.88256 | I27: =G27/G$43*100 -> 13.999837 | J27: =SEKTOR_USD!J27*$B$49 -> 1.2228527e+09 | K27: =SEKTOR_USD!K27*$C$49 -> 1.5325201e+09 | L27: =(K27-J27)/J27*100 -> 25.323365 | M27: =K27/K$43*100 -> 13.586054
A28: =SEKTOR_USD!A28 -> Kimyevi Maddeler ve Mamulleri | B28: =SEKTOR_USD!B28*$B$47 -> 1.1061364e+08 | C28: =SEKTOR_USD!C28*$C$47 -> 1.4862022e+08 | D28: =(C28-B28)/B28*100 -> 34.359759 | E28: =C28/C$43*100 -> 13.494769 | F28: =SEKTOR_USD!F28*$B$48 -> 1.0443581e+09 | G28: =SEKTOR_USD!G28*$C$48 -> 1.3251083e+09 | H28: =(G28-F28)/F28*100 -> 26.88256 | I28: =G28/G$43*100 -> 13.999837 | J28: =SEKTOR_USD!J28*$B$49 -> 1.2228527e+09 | K28: =SEKTOR_USD!K28*$C$49 -> 1.5325201e+09 | L28: =(K28-J28)/J28*100 -> 25.323365 | M28: =K28/K$43*100 -> 13.586054
A29: C. SANAYİ MAMULLERİ | B29: =SEKTOR_USD!B29*$B$47 -> 5.5005651e+08 | C29: =SEKTOR_USD!C29*$C$47 -> 6.9396385e+08 | D29: =(C29-B29)/B29*100 -> 26.162283 | E29: =C29/C$43*100 -> 63.012165 | F29: =SEKTOR_USD!F29*$B$48 -> 4.7286357e+09 | G29: =SEKTOR_USD!G29*$C$48 -> 5.9324285e+09 | H29: =(G29-F29)/F29*100 -> 25.457508 | I29: =G29/G$43*100 -> 62.676412 | J29: =SEKTOR_USD!J29*$B$49 -> 5.5670944e+09 | K29: =SEKTOR_USD!K29*$C$49 -> 7.0940532e+09 | L29: =(K29-J29)/J29*100 -> 27.42829 | M29: =K29/K$43*100 -> 62.890002
A30: =SEKTOR_USD!A30 -> Hazırgiyim ve Konfeksiyon | B30: =SEKTOR_USD!B30*$B$47 -> 62949674 | C30: =SEKTOR_USD!C30*$C$47 -> 63923586 | D30: =(C30-B30)/B30*100 -> 1.5471284 | E30: =C30/C$43*100 -> 5.8042844 | F30: =SEKTOR_USD!F30*$B$48 -> 5.51685e+08 | G30: =SEKTOR_USD!G30*$C$48 -> 6.2748964e+08 | H30: =(G30-F30)/F30*100 -> 13.740566 | I30: =G30/G$43*100 -> 6.6294604 | J30: =SEKTOR_USD!J30*$B$49 -> 6.4640198e+08 | K30: =SEKTOR_USD!K30*$C$49 -> 7.3520312e+08 | L30: =(K30-J30)/J30*100 -> 13.737758 | M30: =K30/K$43*100 -> 6.5177021
A31: =SEKTOR_USD!A31 -> Otomotiv Endüstrisi | B31: =SEKTOR_USD!B31*$B$47 -> 1.5895717e+08 | C31: =SEKTOR_USD!C31*$C$47 -> 1.9884418e+08 | D31: =(C31-B31)/B31*100 -> 25.092929 | E31: =C31/C$43*100 -> 18.055122 | F31: =SEKTOR_USD!F31*$B$48 -> 1.320677e+09 | G31: =SEKTOR_USD!G31*$C$48 -> 1.6158795e+09 | H31: =(G31-F31)/F31*100 -> 22.352364 | I31: =G31/G$43*100 -> 17.07185 | J31: =SEKTOR_USD!J31*$B$49 -> 1.5531505e+09 | K31: =SEKTOR_USD!K31*$C$49 -> 1.9355461e+09 | L31: =(K31-J31)/J31*100 -> 24.620641 | M31: =K31/K$43*100 -> 17.158949
A32: =SEKTOR_USD!A32 -> Gemi, Yat ve Hizmetleri | B32: =SEKTOR_USD!B32*$B$47 -> 12723292 | C32: =SEKTOR_USD!C32*$C$47 -> 11493724 | D32: =(C32-B32)/B32*100 -> -9.6639102 | E32: =C32/C$43*100 -> 1.0436343 | F32: =SEKTOR_USD!F32*$B$48 -> 69439448 | G32: =SEKTOR_USD!G32*$C$48 -> 1.0250267e+08 | H32: =(G32-F32)/F32*100 -> 47.614471 | I32: =G32/G$43*100 -> 1.082946 | J32: =SEKTOR_USD!J32*$B$49 -> 82446726 | K32: =SEKTOR_USD!K32*$C$49 -> 1.2183396e+08 | L32: =(K32-J32)/J32*100 -> 47.772948 | M32: =K32/K$43*100 -> 1.080079
A33: =SEKTOR_USD!A33 -> Elektrik ve Elektronik | B33: =SEKTOR_USD!B33*$B$47 -> 68473019 | C33: =SEKTOR_USD!C33*$C$47 -> 95163812 | D33: =(C33-B33)/B33*100 -> 38.980015 | E33: =C33/C$43*100 -> 8.6409081 | F33: =SEKTOR_USD!F33*$B$48 -> 5.6389693e+08 | G33: =SEKTOR_USD!G33*$C$48 -> 7.6425686e+08 | H33: =(G33-F33)/F33*100 -> 35.531303 | I33: =G33/G$43*100 -> 8.074413 | J33: =SEKTOR_USD!J33*$B$49 -> 6.6526658e+08 | K33: =SEKTOR_USD!K33*$C$49 -> 8.9964185e+08 | L33: =(K33-J33)/J33*100 -> 35.230279 | M33: =K33/K$43*100 -> 7.9754797
A34: =SEKTOR_USD!A34 -> Makine ve Aksamları | B34: =SEKTOR_USD!B34*$B$47 -> 44522533 | C34: =SEKTOR_USD!C34*$C$47 -> 47069251 | D34: =(C34-B34)/B34*100 -> 5.7200661 | E34: =C34/C$43*100 -> 4.2739048 | F34: =SEKTOR_USD!F34*$B$48 -> 3.5436035e+08 | G34: =SEKTOR_USD!G34*$C$48 -> 4.2180584e+08 | H34: =(G34-F34)/F34*100 -> 19.033025 | I34: =G34/G$43*100 -> 4.4564004 | J34: =SEKTOR_USD!J34*$B$49 -> 4.2067657e+08 | K34: =SEKTOR_USD!K34*$C$49 -> 5.1288862e+08 | L34: =(K34-J34)/J34*100 -> 21.919938 | M34: =K34/K$43*100 -> 4.5468458
A35: =SEKTOR_USD!A35 -> Demir ve Demir Dışı Metaller | B35: =SEKTOR_USD!B35*$B$47 -> 50882173 | C35: =SEKTOR_USD!C35*$C$47 -> 65292473 | D35: =(C35-B35)/B35*100 -> 28.320921 | E35: =C35/C$43*100 -> 5.9285798 | F35: =SEKTOR_USD!F35*$B$48 -> 4.3039961e+08 | G35: =SEKTOR_USD!G35*$C$48 -> 5.7679015e+08 | H35: =(G35-F35)/F35*100 -> 34.012703 | I35: =G35/G$43*100 -> 6.0938176 | J35: =SEKTOR_USD!J35*$B$49 -> 5.0007413e+08 | K35: =SEKTOR_USD!K35*$C$49 -> 6.6709922e+08 | L35: =(K35-J35)/J35*100 -> 33.400066 | M35: =K35/K$43*100 -> 5.9139493
A36: =SEKTOR_USD!A36 -> Çelik | B36: =SEKTOR_USD!B36*$B$47 -> 53705280 | C36: =SEKTOR_USD!C36*$C$47 -> 66699394 | D36: =(C36-B36)/B36*100 -> 24.195226 | E36: =C36/C$43*100 -> 6.0563288 | F36: =SEKTOR_USD!F36*$B$48 -> 5.3311926e+08 | G36: =SEKTOR_USD!G36*$C$48 -> 6.4688585e+08 | H36: =(G36-F36)/F36*100 -> 21.339802 | I36: =G36/G$43*100 -> 6.8343823 | J36: =SEKTOR_USD!J36*$B$49 -> 6.256936e+08 | K36: =SEKTOR_USD!K36*$C$49 -> 7.6571205e+08 | L36: =(K36-J36)/J36*100 -> 22.378119 | M36: =K36/K$43*100 -> 6.788169
A37: =SEKTOR_USD!A37 -> Çimento Cam Seramik ve Toprak Ürünleri | B37: =SEKTOR_USD!B37*$B$47 -> 16813600 | C37: =SEKTOR_USD!C37*$C$47 -> 19235843 | D37: =(C37-B37)/B37*100 -> 14.406448 | E37: =C37/C$43*100 -> 1.7466214 | F37: =SEKTOR_USD!F37*$B$48 -> 1.4577912e+08 | G37: =SEKTOR_USD!G37*$C$48 -> 1.7396568e+08 | H37: =(G37-F37)/F37*100 -> 19.335115 | I37: =G37/G$43*100 -> 1.8379563 | J37: =SEKTOR_USD!J37*$B$49 -> 1.6926715e+08 | K37: =SEKTOR_USD!K37*$C$49 -> 2.0548586e+08 | L37: =(K37-J37)/J37*100 -> 21.397366 | M37: =K37/K$43*100 -> 1.8216675
A38: =SEKTOR_USD!A38 -> Mücevher | B38: =SEKTOR_USD!B38*$B$47 -> 23720522 | C38: =SEKTOR_USD!C38*$C$47 -> 37515976 | D38: =(C38-B38)/B38*100 -> 58.158311 | E38: =C38/C$43*100 -> 3.406464 | F38: =SEKTOR_USD!F38*$B$48 -> 2.6254472e+08 | G38: =SEKTOR_USD!G38*$C$48 -> 3.5066046e+08 | H38: =(G38-F38)/F38*100 -> 33.562185 | I38: =G38/G$43*100 -> 3.7047458 | J38: =SEKTOR_USD!J38*$B$49 -> 3.079512e+08 | K38: =SEKTOR_USD!K38*$C$49 -> 3.9910762e+08 | L38: =(K38-J38)/J38*100 -> 29.600928 | M38: =K38/K$43*100 -> 3.5381577
A39: =SEKTOR_USD!A39 -> Savunma ve Havacılık Sanayii | B39: =SEKTOR_USD!B39*$B$47 -> 29523887 | C39: =SEKTOR_USD!C39*$C$47 -> 56216017 | D39: =(C39-B39)/B39*100 -> 90.408591 | E39: =C39/C$43*100 -> 5.1044344 | F39: =SEKTOR_USD!F39*$B$48 -> 2.5940022e+08 | G39: =SEKTOR_USD!G39*$C$48 -> 3.6981101e+08 | H39: =(G39-F39)/F39*100 -> 42.56388 | I39: =G39/G$43*100 -> 3.9070724 | J39: =SEKTOR_USD!J39*$B$49 -> 3.1616561e+08 | K39: =SEKTOR_USD!K39*$C$49 -> 5.150155e+08 | L39: =(K39-J39)/J39*100 -> 62.894216 | M39: =K39/K$43*100 -> 4.5657009
A40: =SEKTOR_USD!A40 -> İklimlendirme Sanayii | B40: =SEKTOR_USD!B40*$B$47 -> 27785362 | C40: =SEKTOR_USD!C40*$C$47 -> 32509595 | D40: =(C40-B40)/B40*100 -> 17.002599 | E40: =C40/C$43*100 -> 2.9518829 | F40: =SEKTOR_USD!F40*$B$48 -> 2.3733403e+08 | G40: =SEKTOR_USD!G40*$C$48 -> 2.823808e+08 | H40: =(G40-F40)/F40*100 -> 18.980323 | I40: =G40/G$43*100 -> 2.9833677 | J40: =SEKTOR_USD!J40*$B$49 -> 2.8000037e+08 | K40: =SEKTOR_USD!K40*$C$49 -> 3.3651933e+08 | L40: =(K40-J40)/J40*100 -> 20.185316 | M40: =K40/K$43*100 -> 2.9833017
A41: III. MADENCİLİK | B41: =SEKTOR_USD!B41*$B$47 -> 24341411 | C41: =SEKTOR_USD!C41*$C$47 -> 33928206 | D41: =(C41-B41)/B41*100 -> 39.384716 | E41: =C41/C$43*100 -> 3.0806932 | F41: =SEKTOR_USD!F41*$B$48 -> 1.9767186e+08 | G41: =SEKTOR_USD!G41*$C$48 -> 2.8017444e+08 | H41: =(G41-F41)/F41*100 -> 41.737139 | I41: =G41/G$43*100 -> 2.9600574 | J41: =SEKTOR_USD!J41*$B$49 -> 2.3299946e+08 | K41: =SEKTOR_USD!K41*$C$49 -> 3.2736202e+08 | L41: =(K41-J41)/J41*100 -> 40.49905 | M41: =K41/K$43*100 -> 2.9021206
A42: =SEKTOR_USD!A42 -> Madencilik Ürünleri | B42: =SEKTOR_USD!B42*$B$47 -> 24341411 | C42: =SEKTOR_USD!C42*$C$47 -> 33928206 | D42: =(C42-B42)/B42*100 -> 39.384716 | E42: =C42/C$43*100 -> 3.0806932 | F42: =SEKTOR_USD!F42*$B$48 -> 1.9767186e+08 | G42: =SEKTOR_USD!G42*$C$48 -> 2.8017444e+08 | H42: =(G42-F42)/F42*100 -> 41.737139 | I42: =G42/G$43*100 -> 2.9600574 | J42: =SEKTOR_USD!J42*$B$49 -> 2.3299946e+08 | K42: =SEKTOR_USD!K42*$C$49 -> 3.2736202e+08 | L42: =(K42-J42)/J42*100 -> 40.49905 | M42: =K42/K$43*100 -> 2.9021206
A43: T O P L A M (TİM*) | B43: =SEKTOR_USD!B43*$B$47 -> 8.7451528e+08 | C43: =SEKTOR_USD!C43*$C$47 -> 1.1013173e+09 | D43: =(C43-B43)/B43*100 -> 25.934593 | E43: =C43/C$43*100 -> 100 | F43: =SEKTOR_USD!F43*$B$48 -> 7.5515489e+09 | G43: =SEKTOR_USD!G43*$C$48 -> 9.4651692e+09 | H43: =(G43-F43)/F43*100 -> 25.340767 | I43: =G43/G$43*100 -> 100 | J43: =SEKTOR_USD!J43*$B$49 -> 8.9226188e+09 | K43: =SEKTOR_USD!K43*$C$49 -> 1.1280097e+10 | L43: =(K43-J43)/J43*100 -> 26.421371 | M43: =K43/K$43*100 -> 100
A45: Not: İlgili dönem ortalama MB Dolar Satış Kuru baz alınarak hesaplanmıştır.
B46: 2025 | C46: 2026
A47: Ekim | B47: 41.73025 | C47: 49.31119
A48: Ocak-Ekim | B48: 38.83509 | C48: 45.939013
A49: Son 12 Ay | B49: 38.134953 | C49: 45.346282

Sheet USDvsTL
A5: İHRACAT ARTIŞI KARŞILAŞTIRMA TABLOSU (USD - TL)
B6: EKİM (2025/2024) | D6: OCAK - EKİM (2026/2025) | F6: SON 12 AYLIK (2026/2025)
A7: SEKTÖRLER | B7: USD Bazında Artış (%) | C7: TL Bazında Artış (%) | D7: USD Bazında Artış (%) | E7: TL Bazında Artış (%) | F7: USD Bazında Artış (%) | G7: TL Bazında Artış (%)
A8: I. TARIM | B8: =SEKTOR_USD!D8 -> 1.8417256 | C8: =SEKTOR_TL!D8 -> 20.342838 | D8: =SEKTOR_USD!H8 -> 4.0412817 | E8: =SEKTOR_TL!H8 -> 23.073072 | F8: =SEKTOR_USD!L8 -> 4.2354148 | G8: =SEKTOR_TL!L8 -> 23.946358
A9: A. BİTKİSEL ÜRÜNLER | B9: =SEKTOR_USD!D9 -> 3.6941636 | C9: =SEKTOR_TL!D9 -> 22.5318 | D9: =SEKTOR_USD!H9 -> 5.2731562 | E9: =SEKTOR_TL!H9 -> 24.530287 | F9: =SEKTOR_USD!L9 -> 5.0987 | G9: =SEKTOR_TL!L9 -> 24.972891
A10: Hububat, Bakliyat, Yağlı Tohumlar ve Mam. | B10: =SEKTOR_USD!D10 -> -4.6863441 | C10: =SEKTOR_TL!D10 -> 12.628845 | D10: =SEKTOR_USD!H10 -> -2.0722012 | E10: =SEKTOR_TL!H10 -> 15.841278 | F10: =SEKTOR_USD!L10 -> -1.2737929 | G10: =SEKTOR_TL!L10 -> 17.395358
A11: Yaş Meyve ve Sebze | B11: =SEKTOR_USD!D11 -> -14.104072 | C11: =SEKTOR_TL!D11 -> 1.5002417 | D11: =SEKTOR_USD!H11 -> 34.606824 | E11: =SEKTOR_TL!H11 -> 59.229827 | F11: =SEKTOR_USD!L11 -> 40.245168 | G11: =SEKTOR_TL!L11 -> 66.765565
A12: Meyve Sebze Mamulleri | B12: =SEKTOR_USD!D12 -> 2.3987158 | C12: =SEKTOR_TL!D12 -> 21.001014 | D12: =SEKTOR_USD!H12 -> -3.0784991 | E12: =SEKTOR_TL!H12 -> 14.650902 | F12: =SEKTOR_USD!L12 -> -3.929188 | G12: =SEKTOR_TL!L12 -> 14.237827
A13: Kuru Meyve ve Mamulleri | B13: =SEKTOR_USD!D13 -> 13.176505 | C13: =SEKTOR_TL!D13 -> 33.736755 | D13: =SEKTOR_USD!H13 -> -4.775306 | E13: =SEKTOR_TL!H13 -> 12.643706 | F13: =SEKTOR_USD!L13 -> -6.0976189 | G13: =SEKTOR_TL!L13 -> 11.659345
A14: Fındık ve Mamulleri | B14: =SEKTOR_USD!D14 -> 51.78336 | C14: =SEKTOR_TL!D14 -> 79.357137 | D14: =SEKTOR_USD!H14 -> 23.468865 | E14: =SEKTOR_TL!H14 -> 46.054453 | F14: =SEKTOR_USD!L14 -> 11.981841 | G14: =SEKTOR_TL!L14 -> 33.157635
A15: Zeytin ve Zeytinyağı | B15: =SEKTOR_USD!D15 -> -4.3060226 | C15: =SEKTOR_TL!D15 -> 13.078257 | D15: =SEKTOR_USD!H15 -> -26.220125 | E15: =SEKTOR_TL!H15 -> -12.723914 | F15: =SEKTOR_USD!L15 -> -31.301507 | G15: =SEKTOR_TL!L15 -> -18.310604
A16: Tütün ve Mamulleri | B16: =SEKTOR_USD!D16 -> 58.551868 | C16: =SEKTOR_TL!D16 -> 87.355249 | D16: =SEKTOR_USD!H16 -> 19.194283 | E16: =SEKTOR_TL!H16 -> 40.997941 | F16: =SEKTOR_USD!L16 -> 16.322313 | G16: =SEKTOR_TL!L16 -> 38.318892
A17: Süs Bitkileri | B17: =SEKTOR_USD!D17 -> -15.577045 | C17: =SEKTOR_TL!D17 -> -0.24031967 | D17: =SEKTOR_USD!H17 -> -1.5986362 | E17: =SEKTOR_TL!H17 -> 16.40147 | F17: =SEKTOR_USD!L17 -> -0.12024014 | G17: =SEKTOR_TL!L17 -> 18.767048
A18: B. HAYVANSAL ÜRÜNLER | B18: =SEKTOR_USD!D18 -> 10.774658 | C18: =SEKTOR_TL!D18 -> 30.898575 | D18: =SEKTOR_USD!H18 -> 8.2184755 | E18: =SEKTOR_TL!H18 -> 28.01438 | F18: =SEKTOR_USD!L18 -> 9.573831 | G18: =SEKTOR_TL!L18 -> 30.29427
A19: Su Ürünleri ve Hayvansal Mamuller | B19: =SEKTOR_USD!D19 -> 10.774658 | C19: =SEKTOR_TL!D19 -> 30.898575 | D19: =SEKTOR_USD!H19 -> 8.2184755 | E19: =SEKTOR_TL!H19 -> 28.01438 | F19: =SEKTOR_USD!L19 -> 9.573831 | G19: =SEKTOR_TL!L19 -> 30.29427
... A43: T O P L A M | B43: =SEKTOR_USD!D43 -> 6.5738219 | C43: =SEKTOR_TL!D43 -> 25.934593 | D43: =SEKTOR_USD!H43 -> 5.9583047 | E43: =SEKTOR_TL!H43 -> 25.340767 | F43: =SEKTOR_USD!L43 -> 6.3168312 | G43: =SEKTOR_TL!L43 -> 26.421371

Sheet GEN_SEK
C2: 1 - 31 EKIM İHRACAT RAKAMLARI
A6: İHRACATÇI BİRLİKLERİ GENEL SEKRETERLİKLERİ BAZINDA İHRACAT RAKAMLARI (1.000 $)
B7: 1 - 31 EKIM | F7: 1 OCAK - 31 EKIM | J7: SON 12 AYLIK
A8: İHRACATÇI BİRLİKLERİ GENEL SEKRETERLİKLERİ | B8: 2025 | C8: 2026 | D8: Değişim ('26/'25) | E8: Pay(26) (%) | F8: 2025 | G8: 2026 | H8: Değişim ('26/'25) | I8: Pay(26) (%) | J8: 2024 - 2025 | K8: 2025 - 2026 | L8: Değişim ('26/'25) | M8: Pay(26) (%)
A9: İMMİB | B9: 6103491.3 | C9: 6674537.3 | D9: =(C9-B9)/B9*100 -> 9.3560556 | E9: =C9/C$23*100 -> 29.885065 | F9: 58524667 | G9: 62861627 | H9: =(G9-F9)/F9*100 -> 7.4104817 | I9: =G9/G$23*100 -> 30.509767 | J9: 70106075 | K9: 74441338 | L9: =(K9-J9)/J9*100 -> 6.1838622 | M9: =K9/K$23*100 -> 29.92561
A10: UİB | B10: 3999142.2 | C10: 4201626.1 | D10: =(C10-B10)/B10*100 -> 5.0631853 | E10: =C10/C$23*100 -> 18.81267 | F10: 35506390 | G10: 36974669 | H10: =(G10-F10)/F10*100 -> 4.135252 | I10: =G10/G$23*100 -> 17.945583 | J10: 42485350 | K10: 44752456 | L10: =(K10-J10)/J10*100 -> 5.336206 | M10: =K10/K$23*100 -> 17.990603
A11: OAİB | B11: 2575134.7 | C11: 3175912.7 | D11: =(C11-B11)/B11*100 -> 23.329963 | E11: =C11/C$23*100 -> 14.220065 | F11: 24155497 | G11: 26217442 | H11: =(G11-F11)/F11*100 -> 8.5361344 | I11: =G11/G$23*100 -> 12.724584 | J11: 29232698 | K11: 33385863 | L11: =(K11-J11)/J11*100 -> 14.207259 | M11: =K11/K$23*100 -> 13.421203
A12: EİB | B12: 1633222.4 | C12: 1712908.9 | D12: =(C12-B12)/B12*100 -> 4.8790983 | E12: =C12/C$23*100 -> 7.6695045 | F12: 15322950 | G12: 16190456 | H12: =(G12-F12)/F12*100 -> 5.6614846 | I12: =G12/G$23*100 -> 7.8580062 | J12: 18504096 | K12: 19364520 | L12: =(K12-J12)/J12*100 -> 4.6499095 | M12: =K12/K$23*100 -> 7.7845871
A13: İTKİB | B13: 1703082.8 | C13: 1603459.7 | D13: =(C13-B13)/B13*100 -> -5.8495779 | E13: =C13/C$23*100 -> 7.1794485 | F13: 16780073 | G13: 15677768 | H13: =(G13-F13)/F13*100 -> -6.569134 | I13: =G13/G$23*100 -> 7.6091738 | J13: 20021734 | K13: 18687838 | L13: =(K13-J13)/J13*100 -> -6.6622406 | M13: =K13/K$23*100 -> 7.5125592
A14: AKİB | B14: 1448094.7 | C14: 1413094.6 | D14: =(C14-B14)/B14*100 -> -2.4169794 | E14: =C14/C$23*100 -> 6.3270938 | F14: 13530381 | G14: 15225339 | H14: =(G14-F14)/F14*100 -> 12.527056 | I14: =G14/G$23*100 -> 7.3895884 | J14: 16555317 | K14: 18489498 | L14: =(K14-J14)/J14*100 -> 11.683145 | M14: =K14/K$23*100 -> 7.4328261
A15: İİB | B15: 1226212.3 | C15: 1203946 | D15: =(C15-B15)/B15*100 -> -1.815857 | E15: =C15/C$23*100 -> 5.3906368 | F15: 10410362 | G15: 10766362 | H15: =(G15-F15)/F15*100 -> 3.4196694 | I15: =G15/G$23*100 -> 5.2254324 | J15: 12570089 | K15: 13081933 | L15: =(K15-J15)/J15*100 -> 4.0719192 | M15: =K15/K$23*100 -> 5.258971
A16: GAİB | B16: 1103698.1 | C16: 1119359.4 | D16: =(C16-B16)/B16*100 -> 1.418979 | E16: =C16/C$23*100 -> 5.0119022 | F16: 9873099.7 | G16: 10473101 | H16: =(G16-F16)/F16*100 -> 6.0771315 | I16: =G16/G$23*100 -> 5.083099 | J16: 11973565 | K16: 12598512 | L16: =(K16-J16)/J16*100 -> 5.2193878 | M16: =K16/K$23*100 -> 5.0646344
A17: DENİB | B17: 340963.28 | C17: 377082.9 | D17: =(C17-B17)/B17*100 -> 10.593403 | E17: =C17/C$23*100 -> 1.6883788 | F17: 2991328.8 | G17: 3407859.7 | H17: =(G17-F17)/F17*100 -> 13.92461 | I17: =G17/G$23*100 -> 1.653998 | J17: 3581738.5 | K17: 4006814.1 | L17: =(K17-J17)/J17*100 -> 11.867857 | M17: =K17/K$23*100 -> 1.6107496
A18: DAİB | B18: 279858.72 | C18: 239097.19 | D18: =(C18-B18)/B18*100 -> -14.565039 | E18: =C18/C$23*100 -> 1.0705514 | F18: 2399897.6 | G18: 2660486.9 | H18: =(G18-F18)/F18*100 -> 10.858351 | I18: =G18/G$23*100 -> 1.2912621 | J18: 2815186 | K18: 3256724.6 | L18: =(K18-J18)/J18*100 -> 15.684171 | M18: =K18/K$23*100 -> 1.3092117
A19: BAİB | B19: 224086.47 | C19: 243579.55 | D19: =(C19-B19)/B19*100 -> 8.6989106 | E19: =C19/C$23*100 -> 1.090621 | F19: 2240568.1 | G19: 2471331.7 | H19: =(G19-F19)/F19*100 -> 10.299335 | I19: =G19/G$23*100 -> 1.199456 | J19: 2697494.2 | K19: 2973011.4 | L19: =(K19-J19)/J19*100 -> 10.21382 | M19: =K19/K$23*100 -> 1.1951583
A20: KİB | B20: 167380.07 | C20: 203773.69 | D20: =(C20-B20)/B20*100 -> 21.743102 | E20: =C20/C$23*100 -> 0.91239133 | F20: 1453804.9 | G20: 1679791.8 | H20: =(G20-F20)/F20*100 -> 15.544514 | I20: =G20/G$23*100 -> 0.81528364 | J20: 1881237 | K20: 2003440.8 | L20: =(K20-J20)/J20*100 -> 6.4959281 | M20: =K20/K$23*100 -> 0.8053884
... A22: HİZMET | B22: 5197.3444 | C22: 4439.3889 | D22: =(C22-B22)/B22*100 -> -14.583514 | E22: =C22/C$23*100 -> 0.019877247 | F22: 12894 | G22: 31370.553 | H22: =(G22-F22)/F22*100 -> 143.29575 | I22: =G22/G$23*100 -> 0.015225636 | J22: 18002.761 | K22: 32095.057 | L22: =(K22-J22)/J22*100 -> 78.278525 | M22: =K22/K$23*100 -> 0.012902296
A23: TOPLAM | B23: =SUM(B9:B22) -> 20956387 | C23: =SUM(C9:C22) -> 22334023 | D23: =(C23-B23)/B23*100 -> 6.5738219 | E23: =C23/C$23*100 -> 100 | F23: =SUM(F9:F22) -> 1.9445169e+08 | G23: =SUM(G9:G22) -> 2.0603771e+08 | H23: =(G23-F23)/F23*100 -> 5.9583047 | I23: =G23/G$23*100 -> 100 | J23: =SUM(J9:J22) -> 2.3397482e+08 | K23: =SUM(K9:K22) -> 2.4875462e+08 | L23: =(K23-J23)/J23*100 -> 6.3168312 | M23: =K23/K$23*100 -> 100

Sheet Toplam İhracat  bar gra

Sheet ULKE
B3: 2026 YILI İHRACATIMIZDA İLK 20 ÜLKE (1.000 $)
B4: ÜLKE | C4: OCAK | D4: ŞUBAT | E4: MART | F4: NİSAN | G4: MAYIS | H4: HAZİRAN | I4: TEMMUZ | J4: AĞUSTOS | K4: EYLÜL | L4: EKİM | M4: KASIM | N4: ARALIK | O4: KÜMÜLATİF | P4: % PAY
A5: 1. | B5: ALMANYA | C5: 1580383.5 | D5: 1653626.2 | E5: 1612580.1 | F5: 1905724 | G5: 1541910.9 | H5: 1811680.5 | I5: 1886276.9 | J5: 1579008.4 | K5: 1865385.9 | L5: 1885170.1 | M5: 0 | N5: 0 | O5: 17321747 | P5: =O5/O$26*100 -> 8.4070757
A6: 2. | B6: ABD | C6: 1031930.9 | D6: 992028.53 | E6: 1141893.4 | F6: 1285757.5 | G6: 1224461.8 | H6: 1282940.4 | I6: 1279961 | J6: 1312140.6 | K6: 1459791.1 | L6: 1504593.5 | M6: 0 | N6: 0 | O6: 12515499 | P6: =O6/O$26*100 -> 6.0743727
A7: 3. | B7: BİRLEŞİK KRALLIK | C7: 1128096.6 | D7: 1113335.9 | E7: 1092238.8 | F7: 1271833.1 | G7: 1058365 | H7: 1164568.3 | I7: 1244374.9 | J7: 1144955.9 | K7: 1353374.7 | L7: 1306610.7 | M7: 0 | N7: 0 | O7: 11877754 | P7: =O7/O$26*100 -> 5.7648445
A8: 4. | B8: İTALYA | C8: 958101.67 | D8: 1006036.5 | E8: 1245898.1 | F8: 1299895.4 | G8: 1063917.6 | H8: 1230280.1 | I8: 957568.61 | J8: 787525.03 | K8: 1056141.7 | L8: 1144351.7 | M8: 0 | N8: 0 | O8: 10749716 | P8: =O8/O$26*100 -> 5.2173538
A9: 5. | B9: İSPANYA | C9: 828861.28 | D9: 787382.61 | E9: 866932.8 | F9: 1030424.4 | G9: 970746.83 | H9: 1083371.7 | I9: 806746.9 | J9: 868214.02 | K9: 1042410.3 | L9: 929283.84 | M9: 0 | N9: 0 | O9: 9214374.6 | P9: =O9/O$26*100 -> 4.4721786
A10: 6. | B10: FRANSA | C10: 731995.49 | D10: 860735.61 | E10: 937479.81 | F10: 951004.23 | G10: 855802.75 | H10: 1009933.8 | I10: 872277.94 | J10: 703540.54 | K10: 976172.4 | L10: 927528.32 | M10: 0 | N10: 0 | O10: 8826470.9 | P10: =O10/O$26*100 -> 4.2839103
A11: 7. | B11: IRAK | C11: 752687.03 | D11: 648914.19 | E11: 532474.12 | F11: 678069.85 | G11: 639281.04 | H11: 788296.08 | I11: 874179.24 | J11: 829762.54 | K11: 944047.34 | L11: 840464.91 | M11: 0 | N11: 0 | O11: 7528176.3 | P11: =O11/O$26*100 -> 3.6537856
A12: 8. | B12: HOLLANDA | C12: 597204.62 | D12: 547736.37 | E12: 464500.55 | F12: 737474.44 | G12: 586171.32 | H12: 629788.76 | I12: 664965.73 | J12: 579698.51 | K12: 649672.71 | L12: 646950.36 | M12: 0 | N12: 0 | O12: 6104163.4 | P12: =O12/O$26*100 -> 2.9626437
A13: 9. | B13: ROMANYA | C13: 438016.51 | D13: 560839.27 | E13: 754173.31 | F13: 683204.81 | G13: 533551.38 | H13: 696130.44 | I13: 767758.6 | J13: 457249.11 | K13: 601814.63 | L13: 536778.63 | M13: 0 | N13: 0 | O13: 6029516.7 | P13: =O13/O$26*100 -> 2.9264141
A14: 10. | B14: POLONYA | C14: 515158.4 | D14: 523386.11 | E14: 489269.2 | F14: 588854.75 | G14: 473595.92 | H14: 581365.64 | I14: 569812.55 | J14: 507172.2 | K14: 581349.49 | L14: 594448.88 | M14: 0 | N14: 0 | O14: 5424413.1 | P14: =O14/O$26*100 -> 2.6327283
A15: 11. | B15: RUSYA FEDERASYONU | C15: 398227.73 | D15: 454072.33 | E15: 438085.5 | F15: 469567.19 | G15: 443938.57 | H15: 538855.13 | I15: 527420.02 | J15: 359649.05 | K15: 478120.4 | L15: 458025.38 | M15: 0 | N15: 0 | O15: 4565961.3 | P15: =O15/O$26*100 -> 2.2160803
A16: 12. | B16: BULGARİSTAN | C16: 377592.64 | D16: 361448.42 | E16: 486826.17 | F16: 487333.79 | G16: 361801.49 | H16: 471331.63 | I16: 434025.58 | J16: 448575.67 | K16: 484091.26 | L16: 458333.62 | M16: 0 | N16: 0 | O16: 4371360.3 | P16: =O16/O$26*100 -> 2.1216311
... A24: 20. | B24: YUNANİSTAN | C24: 257809.62 | D24: 243952.9 | E24: 337870.3 | F24: 288081.62 | G24: 288576.42 | H24: 327426.25 | I24: 285938.05 | J24: 266839.2 | K24: 276357 | L24: 257685.96 | M24: 0 | N24: 0 | O24: 2830537.3 | P24: =O24/O$26*100 -> 1.3737957
B25: İlk 20 Ülke Toplam | O25: =SUM(O5:O24) -> 1.3198691e+08 | P25: =SUM(P5:P24) -> 64.059587
B26: Genel Toplam | O26: 2.0603771e+08 | P26: =O26/O$26*100 -> 100

Sheet KARŞL.
A22: * Aylar bazında toplam ihracat grafiğinde TUİK rakamları kullanılmıştır.

Sheet SEKT1
B1: I. TARIM
B2: A. BİTKİSEL ÜRÜNLER

Sheet SEKT2 

Sheet SEKT3 
C2: B. HAYVANSAL ÜRÜNLER
C21: C. AĞAÇ MAMULLERİ VE ORMAN ÜRÜNLERİ

Sheet SEKT4 
B1: II. SANAYİ
B2: A. TARIMA DAYALI İŞLENMİŞ ÜRÜNLER

Sheet SEKT5 
B1: B. KİMYEVİ MADDELER
B18: C. SANAYİ MAMULLERİ

Sheet 2002_2026_AYLIK_IHR
B1: (x1000 $) | C1: OCAK | D1: ŞUBAT | E1: MART | F1: NİSAN | G1: MAYIS | H1: HAZİRAN | I1: TEMMUZ | J1: AGUSTOS | K1: EYLÜL | L1: EKİM | M1: KASIM | N1: ARALIK | O1: TOPLAM
A2: 2026 | B2: I. TARIM | C2: =C4+C6+C8+C10+C12+C14+C16+C18+C20+C22 -> 2972708.8 | D2: =D4+D6+D8+D10+D12+D14+D16+D18+D20+D22 -> 2904957.5 | E2: =E4+E6+E8+E10+E12+E14+E16+E18+E20+E22 -> 2938656.1 | F2: =F4+F6+F8+F10+F12+F14+F16+F18+F20+F22 -> 3266870.9 | G2: =G4+G6+G8+G10+G12+G14+G16+G18+G20+G22 -> 2741893.2 | H2: =H4+H6+H8+H10+H12+H14+H16+H18+H20+H22 -> 3159321.1 | I2: =I4+I6+I8+I10+I12+I14+I16+I18+I20+I22 -> 3154115.4 | J2: =J4+J6+J8+J10+J12+J14+J16+J18+J20+J22 -> 2801430.9 | ... L2: =L4+L6+L8+L10+L12+L14+L16+L18+L20+L22 -> 3347353.4 | O2: =O4+O6+O8+O10+O12+O14+O16+O18+O20+O22 -> 30464291
A3: 2025 | B3: I. TARIM | C3: =C5+C7+C9+C11+C13+C15+C17+C19+C21+C23 -> 3004800.3 | D3: =D5+D7+D9+D11+D13+D15+D17+D19+D21+D23 -> 2949455.1 | E3: =E5+E7+E9+E11+E13+E15+E17+E19+E21+E23 -> 3117036.4 | F3: =F5+F7+F9+F11+F13+F15+F17+F19+F21+F23 -> 2767943.8 | G3: =G5+G7+G9+G11+G13+G15+G17+G19+G21+G23 -> 3099780.2 | H3: =H5+H7+H9+H11+H13+H15+H17+H19+H21+H23 -> 2542766.7 | I3: =I5+I7+I9+I11+I13+I15+I17+I19+I21+I23 -> 2893494.5 | J3: =J5+J7+J9+J11+J13+J15+J17+J19+J21+J23 -> 2703821.9 | ... O3: =O5+O7+O9+O11+O13+O15+O17+O19+O21+O23 -> 36362921
A4: 2026 | B4: Hububat, Bakliyat, Yağlı Tohumlar ve Mamulleri | C4: 925794.22 | D4: 949026.17 | E4: 944829.65 | F4: 1108086.3 | G4: 900614.64 | H4: 1013764 | I4: 1091129.2 | J4: 953625.67 | K4: 989393.81 | L4: 1038577.3 | O4: 9914841
A5: 2025 | B5: Hububat, Bakliyat, Yağlı Tohumlar ve Mamulleri | C5: 1024708.6 | D5: 1063663.1 | E5: 1106850.9 | F5: 956182 | G5: 1055818.6 | H5: 862664.01 | I5: 1018279 | J5: 955103.8 | K5: 991732.36 | L5: 1089641.7 | M5: 1030614.8 | N5: 1204793.5 | O5: 12360052
A6: 2026 | B6: Yaş Meyve ve Sebze | C6: 512423.19 | D6: 397479.24 | E6: 394524.09 | F6: 328194.4 | G6: 322138.96 | H6: 397766.06 | I6: 290995.37 | J6: 246057.42 | K6: 274903.12 | L6: 287294.34 | O6: 3451776.2
A7: 2025 | B7: Yaş Meyve ve Sebze | C7: 352916.12 | D7: 318987.64 | E7: 298166.45 | F7: 235491.99 | G7: 282671.36 | H7: 202611.68 | I7: 121341.55 | J7: 177463.02 | K7: 240221.94 | L7: 334467.94 | M7: 517955.39 | N7: 620947.63 | O7: 3703242.7
A8: 2026 | B8: Meyve Sebze Mamulleri | C8: 186786.43 | D8: 188397.97 | E8: 202210.85 | F8: 209903.46 | G8: 190088.15 | H8: 202765.79 | I8: 215083.4 | J8: 200817.7 | K8: 233554.86 | L8: 237304.2 | O8: 2066912.8
A9: 2025 | B9: Meyve Sebze Mamulleri | C9: 209828.84 | D9: 198799.59 | E9: 223977.32 | F9: 197644.15 | G9: 219783.12 | H9: 186531.8 | I9: 229092.2 | J9: 209391.82 | K9: 225769.63 | L9: 231745.29 | M9: 211840.63 | N9: 240301.26 | O9: 2584705.7
A10: 2026 | B10: Kuru Meyve ve Mamulleri | C10: 137629.24 | D10: 133508.7 | E10: 129861.63 | F10: 134205.13 | G10: 98541.753 | H10: 114338.11 | I10: 108791.2 | J10: 100259.89 | K10: 167869.99 | L10: 212955.36 | O10: 1337961
A11: 2025 | B11: Kuru Meyve ve Mamulleri | C11: 163152.75 | D11: 144858.23 | E11: 160642.42 | F11: 133032.65 | G11: 140798.29 | H11: 104566.84 | I11: 135310.44 | J11: 111016.48 | K11: 123516.49 | L11: 188162.16 | M11: 160393.6 | N11: 168211.66 | O11: 1733662
A12: 2026 | B12: Fındık ve Mamulleri | C12: 176752.96 | D12: 202583.9 | E12: 267846.55 | F12: 327933.8 | G12: 212071.94 | H12: 240463.17 | I12: 186260.99 | J12: 116076.59 | K12: 190019.04 | L12: 303701.63 | O12: 2223710.6
A13: 2025 | B13: Fındık ve Mamulleri | C13: 206060.89 | D13: 215798.86 | E13: 216963.53 | F13: 208113.84 | G13: 183702.04 | H13: 139627.17 | I13: 164268.67 | J13: 122819.55 | K13: 143585.97 | L13: 200088.88 | M13: 193596.29 | N13: 243722.51 | O13: 2238348.2
A14: 2026 | B14: Zeytin ve Zeytinyağı | C14: 29911.215 | D14: 29498.176 | E14: 29257.854 | F14: 37413.189 | G14: 30612.139 | H14: 30825.522 | I14: 29187.202 | J14: 25265.38 | K14: 31656.887 | L14: 33911.196 | O14: 307538.76
A15: 2025 | B15: Zeytin ve Zeytinyağı | C15: 51206.495 | D15: 41063.263 | E15: 52678.842 | F15: 36783.289 | G15: 46377.821 | H15: 38066.881 | I15: 46750.79 | J15: 32493.512 | K15: 35974.836 | L15: 35437.127 | M15: 35969.178 | N15: 42937.386 | O15: 495739.42
A16: 2026 | B16: Tütün | C16: 63852.644 | D16: 80043.007 | E16: 63330.948 | F16: 81261.418 | G16: 92281.277 | H16: 125938.38 | I16: 110382.51 | J16: 123831.85 | K16: 186542.75 | L16: 130160.56 | O16: 1057625.3
A17: 2025 | B17: Tütün | C17: 85913.865 | D17: 65991.33 | E17: 62660.677 | F17: 77198.856 | G17: 99877.327 | H17: 99311.339 | I17: 109376.61 | J17: 92607.31 | K17: 112281.46 | L17: 82093.362 | M17: 71462.505 | N17: 100840.07 | O17: 1059614.7
A18: 2026 | B18: Süs Bitkileri ve Mamulleri | C18: 14882.811 | D18: 22093.156 | E18: 17676.323 | F18: 16503.755 | G18: 12804.479 | H18: 9540.3304 | I18: 9861.6022 | J18: 8241.6795 | K18: 9450.2409 | L18: 10574.232 | O18: 131628.61
A19: 2025 | B19: Süs Bitkileri ve Mamulleri | C19: 18347.959 | D19: 19389.357 | E19: 18490.98 | F19: 14928.546 | G19: 13651.143 | H19: 8090.8728 | I19: 8822.1545 | J19: 9401.9723 | K19: 10118.768 | L19: 12525.304 | M19: 11742.039 | N19: 14361.359 | O19: 159870.46
A20: 2026 | B20: Su Ürünleri ve Hayvansal Mamuller | C20: 363637.82 | D20: 304648.72 | E20: 290511.86 | F20: 320998.84 | G20: 291939.79 | H20: 331970.58 | I20: 383544.4 | J20: 380332.19 | K20: 413812.38 | L20: 422354.66 | O20: 3503751.2
A21: 2025 | B21: Su Ürünleri ve Hayvansal Mamuller | C21: 284326.54 | D21: 275420.19 | E21: 304836.21 | F21: 287905.59 | G21: 335125.5 | H21: 313835.32 | I21: 370478.42 | J21: 337983.61 | K21: 346479.46 | L21: 381273.72 | M21: 362449.6 | N21: 443768.24 | O21: 4043882.4
A22: 2026 | B22: Mobilya, Kağıt ve Orman Ürünleri | C22: 561038.23 | D22: 597678.43 | E22: 598606.34 | F22: 702370.58 | G22: 590800.07 | H22: 691949.12 | I22: 728879.48 | J22: 646922.5 | K22: 679781 | L22: 670519.93 | O22: 6468545.7
A23: 2025 | B23: Mobilya, Kağıt ve Orman Ürünleri | C23: 608338.18 | D23: 605483.61 | E23: 671769.15 | F23: 620662.92 | G23: 721975 | H23: 587460.76 | I23: 689774.56 | J23: 655540.84 | K23: 685365.9 | L23: 731383.77 | M23: 669670.81 | N23: 736377.23 | O23: 7983802.7
A24: 2026 | B24: II. SANAYİ | C24: =C26+C28+C30+C32+C34+C36+C38+C40+C42+C44+C46+C48+C50+C52+C54 -> 14108086 | D24: =D26+D28+D30+D32+D34+D36+D38+D40+D42+D44+D46+D48+D50+D52+D54 -> 15149468 | E24: =E26+E28+E30+E32+E34+E36+E38+E40+E42+E44+E46+E48+E50+E52+E54 -> 15991184 | F24: =F26+F28+F30+F32+F34+F36+F38+F40+F42+F44+F46+F48+F50+F52+F54 -> 18234635 | G24: =G26+G28+G30+G32+G34+G36+G38+G40+G42+G44+G46+G48+G50+G52+G54 -> 16094377 | H24: =H26+H28+H30+H32+H34+H36+H38+H40+H42+H44+H46+H48+H50+H52+H54 -> 17914717 | I24: =I26+I28+I30+I32+I34+I36+I38+I40+I42+I44+I46+I48+I50+I52+I54 -> 18244508 | J24: =J26+J28+J30+J32+J34+J36+J38+J40+J42+J44+J46+J48+J50+J52+J54 -> 16637236 | ... L24: =L26+L28+L30+L32+L34+L36+L38+L40+L42+L44+L46+L48+L50+L52+L54 -> 18298627 | O24: =O26+O28+O30+O32+O34+O36+O38+O40+O42+O44+O46+O48+O50+O52+O54 -> 1.6947459e+08
A25: 2025 | B25: II. SANAYİ | C25: =C27+C29+C31+C33+C35+C37+C39+C41+C43+C45+C47+C49+C51+C53+C55 -> 14942815 | D25: =D27+D29+D31+D33+D35+D37+D39+D41+D43+D45+D47+D49+D51+D53+D55 -> 14668763 | E25: =E27+E29+E31+E33+E35+E37+E39+E41+E43+E45+E47+E49+E51+E53+E55 -> 16480987 | F25: =F27+F29+F31+F33+F35+F37+F39+F41+F43+F45+F47+F49+F51+F53+F55 -> 14829565 | G25: =G27+G29+G31+G33+G35+G37+G39+G41+G43+G45+G47+G49+G51+G53+G55 -> 17894613 | H25: =H27+H29+H31+H33+H35+H37+H39+H41+H43+H45+H47+H49+H51+H53+H55 -> 14578313 | I25: =I27+I29+I31+I33+I35+I37+I39+I41+I43+I45+I47+I49+I51+I53+I55 -> 18143525 | J25: =J27+J29+J31+J33+J35+J37+J39+J41+J43+J45+J47+J49+J51+J53+J55 -> 15334982 | ... O25: =O27+O29+O31+O33+O35+O37+O39+O41+O43+O45+O47+O49+O51+O53+O55 -> 1.9459532e+08
A26: 2026 | B26: Tekstil ve Hammaddeleri | C26: 728255.5 | D26: 757362.76 | E26: 747397.31 | F26: 892601.87 | G26: 738327.52 | H26: 839744.91 | I26: 845036.18 | J26: 772452.17 | K26: 838610.47 | L26: 811007.99 | O26: 7970796.7
A27: 2025 | B27: Tekstil ve Hammaddeleri | C27: 825083.22 | D27: 755757.47 | E27: 838000.02 | F27: 769934.76 | G27: 852159.28 | H27: 691162.71 | I27: 776101.03 | J27: 748830.02 | K27: 785821.57 | L27: 838978.86 | M27: 740928.14 | N27: 780949.2 | O27: 9403706.3
A28: 2026 | B28: Deri ve Deri Mamulleri | C28: 106233.67 | D28: 126719.04 | E28: 112877.3 | F28: 122777.62 | G28: 103887.19 | H28: 109417.73 | I28: 148272.26 | J28: 139926.41 | K28: 134231.74 | L28: 118818.13 | O28: 1223161.1
A29: 2025 | B29: Deri ve Deri Mamulleri | C29: 126177.4 | D29: 132248.76 | E29: 140687.86 | F29: 102624.88 | G29: 124003.22 | H29: 90353.7 | I29: 132121.8 | J29: 137122.42 | K29: 128454.37 | L29: 129118.95 | M29: 100339.45 | N29: 101065.11 | O29: 1444317.9
A30: 2026 | B30: Halı | C30: 206143.91 | D30: 220793.32 | E30: 207027.97 | F30: 237325.63 | G30: 181516.99 | H30: 204556.75 | I30: 234505.29 | J30: 245961.71 | K30: 279083.24 | L30: 281724.38 | O30: 2298639.2
A31: 2025 | B31: Halı | C31: 229213.03 | D31: 227605.86 | E31: 234220.14 | F31: 199115.23 | G31: 233946.09 | H31: 165379.25 | I31: 230952.04 | J31: 231825.87 | K31: 263391.04 | L31: 286242.44 | M31: 250763.23 | N31: 284848.55 | O31: 2837502.8
A32: 2026 | B32: Kimyevi Maddeler ve Mamulleri | C32: 2316328 | D32: 2394564.5 | E32: 3053248.9 | F32: 3097102.7 | G32: 2926345.1 | H32: 3277840.7 | I32: 3054040.1 | J32: 2640625.2 | K32: 3070924.9 | L32: 3013924.8 | O32: 28844945
A33: 2025 | B33: Kimyevi Maddeler ve Mamulleri | C33: 2550824.2 | D33: 2485551.5 | E33: 2724519.5 | F33: 2611345.6 | G33: 2786758.5 | H33: 2594381.3 | I33: 3424421 | J33: 2609022 | K33: 2454619.5 | L33: 2650682.4 | M33: 2349817.3 | N33: 2601175.5 | O33: 31843118
A34: 2026 | B34: Hazırgiyim ve Konfeksiyon | C34: 1337258.5 | D34: 1323450.3 | E34: 1207540.5 | F34: 1445221.7 | G34: 1283534.4 | H34: 1371645.5 | I34: 1579887.6 | J34: 1410537.1 | K34: 1403782.8 | L34: 1296330.2 | O34: 13659189
A35: 2025 | B35: Hazırgiyim ve Konfeksiyon | C35: 1409229.8 | D35: 1354606 | E35: 1413608.7 | F35: 1225036.4 | G35: 1514368.6 | H35: 1195468.1 | I35: 1580678.3 | J35: 1519171.5 | K35: 1485180.4 | L35: 1508490.2 | M35: 1284934.6 | N35: 1268961.7 | O35: 16759734
A36: 2026 | B36: Otomotiv Endüstrisi | C36: 3058952.9 | D36: 3540040.7 | E36: 3288322.8 | F36: 3852852.7 | G36: 3258720.3 | H36: 3835032.5 | I36: 3583449.8 | J36: 2787309 | K36: 3937333.9 | L36: 4032435.2 | O36: 35174450
A37: 2025 | B37: Otomotiv Endüstrisi | C37: 2996338.5 | D37: 2976587.4 | E37: 3514214.6 | F37: 3141750.1 | G37: 3942310.3 | H37: 3405075.9 | I37: 3834683.8 | J37: 2729839.3 | K37: 3657351.8 | L37: 3809159.3 | M37: 3749702.8 | N37: 3759525.3 | O37: 41516539
A38: 2026 | B38: Gemi, Yat ve Hizmetleri | C38: 166912.11 | D38: 165265.07 | E38: 235413.85 | F38: 353492.78 | G38: 349619.63 | H38: 279412.78 | I38: 166187.65 | J38: 100453.35 | K38: 181434.5 | L38: 233085.51 | O38: 2231277.2
A39: 2025 | B39: Gemi, Yat ve Hizmetleri | C39: 82415.475 | D39: 158782.83 | E39: 86356.292 | F39: 129783.3 | G39: 367051.56 | H39: 84044.055 | I39: 262568.56 | J39: 81743.42 | K39: 230420.19 | L39: 304893.73 | M39: 164250.66 | N39: 291218.45 | O39: 2243528.5
A40: 2026 | B40: Elektrik ve Elektronik | C40: 1340470.5 | D40: 1407001.5 | E40: 1475047.9 | F40: 1762113.1 | G40: 1479746.5 | H40: 1661626.5 | I40: 1799895.5 | J40: 1723163.7 | K40: 2057408.5 | L40: 1929862.4 | O40: 16636336
A41: 2025 | B41: Elektrik ve Elektronik | C41: 1223508.2 | D41: 1292779.5 | E41: 1477399.7 | F41: 1378795.5 | G41: 1672808.7 | H41: 1274531.4 | I41: 1563386.6 | J41: 1488938.8 | K41: 1507297.4 | L41: 1640848.5 | M41: 1476657.8 | N41: 1726380.1 | O41: 17723332
A42: 2026 | B42: Makine ve Aksamları | C42: 811832.76 | D42: 879702.49 | E42: 885120.72 | F42: 1024344.5 | G42: 834279.98 | H42: 917045.08 | I42: 1024433.5 | J42: 896915.12 | K42: 953656.47 | L42: 954534.88 | O42: 9181865.6
A43: 2025 | B43: Makine ve Aksamları | C43: 790347.89 | D43: 807779.57 | E43: 915049.39 | F43: 853185.46 | G43: 1006360.7 | H43: 797324.16 | I43: 984969.03 | J43: 962214.95 | K43: 940602.6 | L43: 1066912.7 | M43: 979382.73 | N43: 1149240.5 | O43: 11253370
A44: 2026 | B44: Demir ve Demir Dışı Metaller | C44: 1072805.2 | D44: 1096774.9 | E44: 1133683.4 | F44: 1360297.6 | G44: 1175635.2 | H44: 1360930.8 | I44: 1403801.4 | J44: 1309027.1 | K44: 1318516.5 | L44: 1324090.4 | O44: 12555562
A45: 2025 | B45: Demir ve Demir Dışı Metaller | C45: 1010378.2 | D45: 1020096.1 | E45: 1135102.4 | F45: 1080114.7 | G45: 1234347 | H45: 967548.42 | I45: 1186760.7 | J45: 1098428 | K45: 1130663.4 | L45: 1219311.5 | M45: 1048082.3 | N45: 1107577.2 | O45: 13238410
A46: 2026 | B46: Çelik | C46: 1079003.2 | D46: 1174739 | E46: 1528979.5 | F46: 1419960.2 | G46: 1418099 | H46: 1738881 | I46: 1371639.6 | J46: 1520952.6 | K46: 1476529.1 | L46: 1352621.9 | O46: 14081405
A47: 2025 | B47: Çelik | C47: 1245833.7 | D47: 1233276.8 | E47: 1539795.2 | F47: 1300330.6 | G47: 1496070.9 | H47: 1430237.7 | I47: 1351623.1 | J47: 1364685.9 | K47: 1478955.2 | L47: 1286962.8 | M47: 1313238.5 | N47: 1491240.3 | O47: 16532251
A48: 2026 | B48: Çimento Cam Seramik ve Toprak Ürünleri | C48: 316660.93 | D48: 330840.4 | E48: 375885.64 | F48: 422433.75 | G48: 359372.01 | H48: 418362.39 | I48: 422938.97 | J48: 375240.26 | K48: 375058.02 | L48: 390090.82 | O48: 3786883.2
A49: 2025 | B49: Çimento Cam Seramik ve Toprak Ürünleri | C49: 317167.47 | D49: 320191.06 | E49: 375147.77 | F49: 387268.29 | G49: 413257.35 | H49: 365425.93 | I49: 427228.41 | J49: 363877.65 | K49: 381323.39 | L49: 402911.56 | M49: 359533.14 | N49: 385065.56 | O49: 4498397.6
A50: 2026 | B50: Mücevher | C50: 483534.06 | D50: 569602.74 | E50: 361179.01 | F50: 606000.68 | G50: 443040.43 | H50: 459473.75 | I50: 801882.48 | J50: 1635907.1 | K50: 1511752.9 | L50: 760800.46 | O50: 7633173.6
A51: 2025 | B51: Mücevher | C51: 1162372.4 | D51: 877775 | E51: 565444.91 | F51: 503102.17 | G51: 853218.95 | H51: 379313.9 | I51: 756173.58 | J51: 596255.94 | K51: 498420.43 | L51: 568425.1 | M51: 614831.47 | N51: 553325.49 | O51: 7928659.3
A52: 2026 | B52: Savunma ve Havacılık Sanayii | C52: 549277.73 | D52: 552693.88 | E52: 798572.06 | F52: 962304.37 | G52: 992053.49 | H52: 802534.33 | I52: 1112119.3 | J52: 506344.24 | K52: 634117.67 | L52: 1140025.6 | O52: 8050042.6
A53: 2025 | B53: Savunma ve Havacılık Sanayii | C53: 385075.39 | D53: 435214.94 | E53: 883919.51 | F53: 538166.55 | G53: 740970.17 | H53: 606555.33 | I53: 975496.89 | J53: 833838.45 | K53: 572800.85 | L53: 707493.66 | M53: 746154.93 | N53: 2561194.3 | O53: 9986881
A54: 2026 | B54: İklimlendirme Sanayii | C54: 534417.16 | D54: 609917.37 | E54: 580886.77 | F54: 675805.63 | G54: 550199.21 | H54: 638212.76 | I54: 696417.93 | J54: 572420.49 | K54: 629311.05 | L54: 659274.19 | O54: 6146862.6
A55: 2025 | B55: İklimlendirme Sanayii | C55: 588849.93 | D55: 590510.17 | E55: 637521.17 | F55: 609011.31 | G55: 656981.53 | H55: 531511.54 | I55: 656360.28 | J55: 569188.22 | K55: 605562.82 | L55: 665832.62 | M55: 612666.39 | N55: 661571.82 | O55: 7385567.8
A56: 2026 | B56: III. MADENCİLİK | C56: =C58 -> 518889.23 | D56: =D58 -> 473999.48 | E56: =E58 -> 571415.62 | F56: =F58 -> 675602.18 | G56: =G58 -> 501503.76 | H56: =H58 -> 692870.27 | I56: =I58 -> 644276.28 | J56: =J58 -> 649810.39 | ... L56: =L58 -> 688042.73 | O56: =O58 -> 6098834.6
A57: 2025 | B57: III. MADENCİLİK | C57: =C59 -> 456640.65 | D57: =D59 -> 417965.56 | E57: =E59 -> 492702.61 | F57: =F59 -> 474386.29 | G57: =G59 -> 531011.78 | H57: =H59 -> 490379.54 | I57: =I59 -> 571275.47 | J57: =J59 -> 522783.4 | ... O57: =O59 -> 6210356.7
A58: 2026 | B58: Madencilik Ürünleri | C58: 518889.23 | D58: 473999.48 | E58: 571415.62 | F58: 675602.18 | G58: 501503.76 | H58: 692870.27 | I58: 644276.28 | J58: 649810.39 | K58: 682424.65 | L58: 688042.73 | O58: 6098834.6
A59: 2025 | B59: Madencilik Ürünleri | C59: 456640.65 | D59: 417965.56 | E59: 492702.61 | F59: 474386.29 | G59: 531011.78 | H59: 490379.54 | I59: 571275.47 | J59: 522783.4 | K59: 549583.27 | L59: 583303.74 | M59: 531833.67 | N59: 588490.75 | O59: 6210356.7
A60: 2002 | B60: T O P L A M | C60: 2607319.7 | D60: 2383773 | E60: 2918943.5 | F60: 2742857.9 | G60: 3000325.2 | H60: 2770693.9 | I60: 3103851.9 | J60: 2975889 | K60: 3218206.9 | L60: 3501128 | M60: 3593604.9 | N60: 3242495.2 | O60: =SUM(C60:N60) -> 36059089
A61: 2003 | B61: T O P L A M | C61: 3533705.6 | D61: 2923460.4 | E61: 3908256 | F61: 3662183.4 | G61: 3860471.3 | H61: 3796113.5 | I61: 4236114.3 | J61: 3828726.2 | K61: 4114677.5 | L61: 4824388.3 | M61: 3969697.5 | N61: 4595042.4 | O61: =SUM(C61:N61) -> 47252836
A62: 2004 | B62: T O P L A M | C62: 4619660.8 | D62: 3664503 | E62: 5218042.2 | F62: 5072463 | G62: 5170061.6 | H62: 5284383.3 | I62: 5632138.8 | J62: 4707491.3 | K62: 5656283.5 | L62: 5867342.1 | M62: 5733909 | N62: 6540874.2 | O62: =SUM(C62:N62) -> 63167153
A63: 2005 | B63: T O P L A M | C63: 4997279.7 | D63: 5651741.3 | E63: 6591859.2 | F63: 6128131.9 | G63: 5977226.2 | H63: 6038534.4 | I63: 5763466.4 | J63: 5552867.2 | K63: 6814268.9 | L63: 6772178.6 | M63: 5942575.8 | N63: 7246278.6 | O63: =SUM(C63:N63) -> 73476408
A64: 2006 | B64: T O P L A M | C64: 5133048.9 | D64: 6058251.3 | E64: 7411101.7 | F64: 6456090.3 | G64: 7041543.2 | H64: 7815434.6 | I64: 7067411.5 | J64: 6811202.4 | K64: 7606551.1 | L64: 6888812.5 | M64: 8641474.6 | N64: 8603753.5 | O64: =SUM(C64:N64) -> 85534676
A65: 2007 | B65: T O P L A M | C65: 6564559.8 | D65: 7656951.6 | E65: 8957851.6 | F65: 8313312 | G65: 9147620 | H65: 8980247.4 | I65: 8937741.6 | J65: 8736689.1 | K65: 9038743.9 | L65: 9895216.6 | M65: 11318798 | N65: 9724018 | O65: =SUM(C65:N65) -> 1.0727175e+08
A66: 2008 | B66: T O P L A M | C66: 10632207 | D66: 11077899 | E66: 11428587 | F66: 11363964 | G66: 12477969 | H66: 11770634 | I66: 12595427 | J66: 11046830 | K66: 12793148 | L66: 9722708.8 | M66: 9395872.9 | N66: 7721949 | O66: =SUM(C66:N66) -> 1.320272e+08
A67: 2009 | B67: T O P L A M | C67: 7884493.5 | D67: 8435115.8 | E67: 8155485.1 | F67: 7561696.3 | G67: 7346407.5 | H67: 8329692.8 | I67: 9055733.7 | J67: 7839908.8 | K67: 8480708.4 | L67: 10095768 | M67: 8903010.8 | N67: 10054592 | O67: =SUM(C67:N67) -> 1.0214261e+08
A68: 2010 | B68: T O P L A M | C68: 7828748.1 | D68: 8263237.8 | E68: 9886488.2 | F68: 9396006.7 | G68: 9799958.1 | H68: 9542907.6 | I68: 9564682.5 | J68: 8523452 | K68: 8909230.5 | L68: 10963586 | M68: 9382369.7 | N68: 11822552 | O68: =SUM(C68:N68) -> 1.1388322e+08
A69: 2011 | B69: T O P L A M | C69: 9551084.6 | D69: 10059126 | E69: 11811085 | F69: 11873269 | G69: 10943364 | H69: 11349954 | I69: 11860004 | J69: 11245125 | K69: 10750626 | L69: 11907219 | M69: 11078525 | N69: 12477486 | O69: =SUM(C69:N69) -> 1.3490687e+08
A70: 2012 | B70: T O P L A M | C70: 10348187 | D70: 11748000 | E70: 13208573 | F70: 12630227 | G70: 13131531 | H70: 13231199 | I70: 12830675 | J70: 12831395 | K70: 12952652 | L70: 13190770 | M70: 13753052 | N70: 12605476 | O70: =SUM(C70:N70) -> 1.5246174e+08
A71: 2013 | B71: T O P L A M | C71: 11481521 | D71: 12385691 | E71: 13122058 | F71: 12468203 | G71: 13277209 | H71: 12399974 | I71: 13059520 | J71: 11118301 | K71: 13060371 | L71: 12053705 | M71: 14201227 | N71: 13174857 | O71: =SUM(C71:N71) -> 1.5180264e+08
... A83: 2025 | B83: T O P L A M | C83: 21160019 | D83: 20727903 | E83: 23405171 | F83: 20779137 | G83: 24815507 | H83: 20467853 | I83: 24909274 | J83: 21701090 | K83: 22513548 | L83: 23949501 | M83: 22506333 | N83: 26298394 | O83: =SUM(C83:N83) -> 2.7323373e+08
A84: 2026 | B84: T O P L A M | C84: 20330300 | D84: 21020441 | E84: 21912413 | F84: 25383510 | G84: 22390381 | H84: 24877184 | I84: 25618361 | J84: 23452777 | K84: 25966599 | L84: 25884734 | O84: =SUM(C84:N84) -> 2.368367e+08
